{"text_format":"1","workbook":"xlsx","n_sheets":3,"sheets":["MainSheet","PrintLayout","Efficiency&OperationCharts"],"not_rendered":{"charts":5,"images":0,"macros":1,"external_links":1,"defined_names":3,"comments":1,"pivot_tables":0},"unopened":[],"bounds":{"document_bytes":16777216,"sheet_cells":100000,"rows_first":2000,"rows_last":500,"rows_between":2000,"halvings":0,"cell_chars":16384,"cell_head_chars":4096},"cells_cut":0,"cells_raw":0,"read":"whole","date_system":"1900"}

{"sheet":"MainSheet","index":0,"n_rows":160,"n_cols":27,"rows_kept":160,"cut":false,"hidden":false,"merged":[[0,1,0,10],[2,2,3,9],[5,2,5,3]]}
[null,"Center Pivot Catch Can Evaluation Spreadsheet"]
[null,null,"Test details"]
[null,null,"WSU Othello"]
[]
[null,null,null,null,null,null,null,null,null,null,null,null,null,null,"Max Catch",{"$f":"MAX(P7:P157)","v":0.47619047619047616},null,null,null,null,null,null,null,{"$f":"OFFSET(W7,3,0)","v":26}]
[null,null,"mL to inches conversion",null,null,420,null,null,null,null,null,null,null,null,"1/4 Num Cans",{"$f":"ROUND(COUNTIF(D8:D157,\">0\")/4,0)","v":3},null,null,null,null," "]
[null,"Span","Catch can number","Amount collected in can (mL)",null,"Amount in Can in INCHES",null,"Weighted catch",null,"Sum of all weighted catches",{"$f":"IF(K8>0,SUM(H8:H157),\"\")","v":51.066666666666663},null,null,null,null,"mm in can","Can No.","Weighted Catch","Sorted mm in Can","Search Range","Can No.","Weighted Catch","Sum Can Nos.","Sum Weighted Catches","Average of All Cans","Average of Lowest Quarter","rj*|yj-ya| for CU"]
[null,null,1,"x",null,{"$f":"IF(ISNUMBER(D8),D8/$F$6,\" \")","v":" "},null,{"$f":"IF(F8<>\" \",C8*F8,\" \")","v":" "},null,"Sum of all used can numbers",{"$f":"SUMIF(F8:F157,\"<> \",C8:C157)","v":121},null,null," ",{"$f":"IF(ISNUMBER(D8),C8,NA())","v":{"$error":"#N/A"}},{"$f":"F8","v":" "},{"$f":"C8","v":1},{"$f":"H8","v":" "},{"$f":"SMALL(P$8:P$157,Q8)","v":0.35714285714285715},{"$f":"\"P\"&(VLOOKUP(S8,P$8:R$157,2,FALSE)+8)&\":R157\"","v":"P14:R157"},{"$f":"VLOOKUP(S8,P$8:R$157,2,FALSE)","v":6},{"$f":"VLOOKUP(S8,P$8:R$157,3,FALSE)","v":2.1428571428571428},{"$f":"SUM(U$8:U8)","v":6},{"$f":"SUM(V$8:V8)","v":2.1428571428571428},{"$f":"$K$9","v":0.42203856749311291},{"$f":"$K$13","v":0.37106227106227102},{"$f":"IF(ISNUMBER(D8),Q8*ABS(F8-$K$9),0)","v":0}]
[null,null,{"$f":"C8+1","v":2},"x",null," ",null,{"$f":"IF(F9<>\" \",C9*F9,\" \")","v":" "},null,"Average catch (in)",{"$f":"IF(ISERROR(K7/K8),\"\",K7/K8)","v":0.42203856749311291},null,null," ",{"$f":"IF(ISNUMBER(D9),C9,NA())","v":{"$error":"#N/A"}},{"$f":"F9","v":" "},{"$f":"C9","v":2},{"$f":"H9","v":" "},{"$f":"SMALL(P$8:P$157,Q9)","v":0.36666666666666664},{"$f":"\"P\"&(IF(S9=S8,VLOOKUP(S9,INDIRECT(T8),2,FALSE),VLOOKUP(S9,P$8:Q$157,2,FALSE))+8)&\":R157\"","v":"P16:R157"},{"$f":"IF(S9=S8,VLOOKUP(S9,INDIRECT(T8),2,FALSE),VLOOKUP(S9,P$8:R$157,2,FALSE))","v":8},{"$f":"IF(S9=S8,VLOOKUP(S9,INDIRECT(T8),3,FALSE),VLOOKUP(S9,P$8:R$157,3,FALSE))","v":2.9333333333333331},{"$f":"SUM(U$8:U9)","v":14},{"$f":"SUM(V$8:V9)","v":5.0761904761904759},{"$f":"$K$9","v":0.42203856749311291},{"$f":"$K$13","v":0.37106227106227102},{"$f":"IF(ISNUMBER(D9),Q9*ABS(F9-$K$9),0)","v":0}]
[null,null,{"$f":"C9+1","v":3},"x",null," ",null," ",null,null,null,null,null," ",{"$error":"#N/A"}," ",3," ",{"$f":"SMALL(P$8:P$157,Q10)","v":0.38095238095238093},{"$f":"\"P\"&(IF(S10=S9,VLOOKUP(S10,INDIRECT(T9),2,FALSE),VLOOKUP(S10,P$8:Q$157,2,FALSE))+8)&\":R157\"","v":"P20:R157"},{"$f":"IF(S10=S9,VLOOKUP(S10,INDIRECT(T9),2,FALSE),VLOOKUP(S10,P$8:R$157,2,FALSE))","v":12},{"$f":"IF(S10=S9,VLOOKUP(S10,INDIRECT(T9),3,FALSE),VLOOKUP(S10,P$8:R$157,3,FALSE))","v":4.5714285714285712},{"$f":"SUM(U$8:U10)","v":26},{"$f":"SUM(V$8:V10)","v":9.6476190476190471},0.42203856749311291,0.37106227106227102,0]
[null,null,4,"x",null," ",null," ",null,"Sum of lowest quarter weighted catches",{"$f":"IF(COUNTIF(D8:D157,\">0\")<5,\"\",OFFSET(X7,P6,0))","v":9.6476190476190471},null,null," ",{"$error":"#N/A"}," ",4," ",0.39285714285714285,"P24:R157",{"$f":"IF(S11=S10,VLOOKUP(S11,INDIRECT(T10),2,FALSE),VLOOKUP(S11,P$8:R$157,2,FALSE))","v":16},{"$f":"IF(S11=S10,VLOOKUP(S11,INDIRECT(T10),3,FALSE),VLOOKUP(S11,P$8:R$157,3,FALSE))","v":6.2857142857142856},{"$f":"SUM(U$8:U11)","v":42},{"$f":"SUM(V$8:V11)","v":15.933333333333334},0.42203856749311291,0.37106227106227102,0]
[null,null,5,"x",null," ",null," ",null,"Sum of lowest quarter used can numbers",{"$f":"IF(COUNTIF(D8:D157,\">0\")<5,\"\",OFFSET(W7,P6,0))","v":26},null,null," ",{"$error":"#N/A"}," ",5," ",0.41190476190476188,"P23:R157",15,6.1785714285714279,{"$f":"SUM(U$8:U12)","v":57},{"$f":"SUM(V$8:V12)","v":22.111904761904761},0.42203856749311291,0.37106227106227102,0]
[null,null,6,150,null,0.35714285714285715,null,2.1428571428571428,null,"Lowest quarter average catch (in)",{"$f":"IF(COUNTIF(D8:D157,\">0\")<5,\"\",IF(P158=Q158,K11/K12,\"      \"))","v":0.37106227106227102},null,null," ",6,0.35714285714285715,6,2.1428571428571428,0.42619047619047618,"P19:R157",11,4.6880952380952383,{"$f":"SUM(U$8:U13)","v":68},{"$f":"SUM(V$8:V13)","v":26.799999999999997},0.42203856749311291,0.37106227106227102,0.38937426210153459]
[null,null,7,200,null,0.47619047619047616,null,3.333333333333333,null,"Distribution Uniformity - DUlq",{"$f":"IF(COUNTIF(D8:D157,\">0\")<5,\"\",IF(P158=Q158,K13/K9,\"      \"))","v":0.87921412790864484},null,null," ",7,0.47619047619047616,7,3.333333333333333,0.44047619047619047,"P18:R157",10,4.4047619047619051,{"$f":"SUM(U$8:U14)","v":78},{"$f":"SUM(V$8:V14)","v":31.204761904761902},0.42203856749311291,0.37106227106227102,0.37906336088154274]
[null,null,8,154,null,0.36666666666666664,null,2.9333333333333331,null,null,null,null,null," ",8,0.36666666666666664,8,2.9333333333333331,0.45,"P22:R157",14,6.3,{"$f":"SUM(U$8:U15)","v":92},{"$f":"SUM(V$8:V15)","v":37.504761904761899},0.42203856749311291,0.37106227106227102,0.44297520661157019]
[null,null,9,200,null,0.47619047619047616,null,4.2857142857142856,null,"Sum of absolute value of diff from avg catch",{"$f":"IF(COUNTIF(D8:D157,\">0\")<5,\"\",IF(P158=Q158,SUM(AA8:AA157),\"      \"))","v":3.8885871704053523},null,null," ",9,0.47619047619047616,9,4.2857142857142856,0.45714285714285713,"P21:R157",13,5.9428571428571431,{"$f":"SUM(U$8:U16)","v":105},{"$f":"SUM(V$8:V16)","v":43.447619047619042},0.42203856749311291,0.37106227106227102,0.48736717827626924]
[null,null,10,185,null,0.44047619047619047,null,4.4047619047619051,null,"Christiansen Uniformity - CU",{"$f":"IF(COUNTIF(D8:D157,\">0\")<5,\"\",IF(P158=Q158,1-K16/K7,\"      \"))","v":0.92385273165002579},null,null," ",10,0.44047619047619047,10,4.4047619047619051,0.47619047619047616,"P15:R157",7,3.333333333333333,{"$f":"SUM(U$8:U17)","v":112},{"$f":"SUM(V$8:V17)","v":46.780952380952378},0.42203856749311291,0.37106227106227102,0.18437622983077551]
[null,null,11,179,null,0.42619047619047618,null,4.6880952380952383,null,null,null,null,null," ",11,0.42619047619047618,11,4.6880952380952383,0.47619047619047616,"P17:R157",9,4.2857142857142856,{"$f":"SUM(U$8:U18)","v":121},{"$f":"SUM(V$8:V18)","v":51.066666666666663},0.42203856749311291,0.37106227106227102,4.5670995670995862E-2]
[null,null,12,160,null,0.38095238095238093,null,4.5714285714285712,null,null,null,null,null,null,12,0.38095238095238093,12,4.5714285714285712,{"$error":"#NUM!"},{"$error":"#NUM!"},{"$error":"#NUM!"},{"$error":"#NUM!"},{"$f":"SUM(U$8:U19)","v":{"$error":"#NUM!"}},{"$f":"SUM(V$8:V19)","v":{"$error":"#NUM!"}},0.42203856749311291,0.37106227106227102,0.4930342384887838]
[null,null,13,192,null,0.45714285714285713,null,5.9428571428571431,null,null,null,null,null,null,13,0.45714285714285713,13,5.9428571428571431,{"$error":"#NUM!"},{"$error":"#NUM!"},{"$error":"#NUM!"},{"$error":"#NUM!"},{"$f":"SUM(U$8:U20)","v":{"$error":"#NUM!"}},{"$f":"SUM(V$8:V20)","v":{"$error":"#NUM!"}},0.42203856749311291,0.37106227106227102,0.45635576544667478]
[null,null,14,189,null,0.45,null,6.3,null," ",null,null,null,null,14,0.45,14,6.3,{"$error":"#NUM!"},{"$error":"#NUM!"},{"$error":"#NUM!"},{"$error":"#NUM!"},{"$f":"SUM(U$8:U21)","v":{"$error":"#NUM!"}},{"$f":"SUM(V$8:V21)","v":{"$error":"#NUM!"}},0.42203856749311291,0.37106227106227102,0.39146005509641935]
[null,null,15,173,null,0.41190476190476188,null,6.1785714285714279,null,null,null,null,null,null,15,0.41190476190476188,15,6.1785714285714279,{"$error":"#NUM!"},{"$error":"#NUM!"},{"$error":"#NUM!"},{"$error":"#NUM!"},{"$f":"SUM(U$8:U22)","v":{"$error":"#NUM!"}},{"$f":"SUM(V$8:V22)","v":{"$error":"#NUM!"}},0.42203856749311291,0.37106227106227102,0.15200708382526545]
[null,null,16,165,null,0.39285714285714285,null,6.2857142857142856,null,null,null,null,null,null,16,0.39285714285714285,16,6.2857142857142856,{"$error":"#NUM!"},{"$error":"#NUM!"},{"$error":"#NUM!"},{"$error":"#NUM!"},{"$f":"SUM(U$8:U23)","v":{"$error":"#NUM!"}},{"$f":"SUM(V$8:V23)","v":{"$error":"#NUM!"}},0.42203856749311291,0.37106227106227102,0.46690279417552105]
[null,null,17,"x",null," ",null," ",null,null,null,null,null,null,{"$error":"#N/A"}," ",17," ",{"$error":"#NUM!"},{"$error":"#NUM!"},{"$error":"#NUM!"},{"$error":"#NUM!"},{"$f":"SUM(U$8:U24)","v":{"$error":"#NUM!"}},{"$f":"SUM(V$8:V24)","v":{"$error":"#NUM!"}},0.42203856749311291,0.37106227106227102,0]
[null,null,18,"x",null," ",null," ",null,null,null,null,null,null,{"$error":"#N/A"}," ",18," ",{"$error":"#NUM!"},{"$error":"#NUM!"},{"$error":"#NUM!"},{"$error":"#NUM!"},{"$f":"SUM(U$8:U25)","v":{"$error":"#NUM!"}},{"$f":"SUM(V$8:V25)","v":{"$error":"#NUM!"}},0.42203856749311291,0.37106227106227102,0]
[null,null,19,"x",null," ",null," ",null,null,null,null,null,null,{"$error":"#N/A"}," ",19," ",{"$error":"#NUM!"},{"$error":"#NUM!"},{"$error":"#NUM!"},{"$error":"#NUM!"},{"$f":"SUM(U$8:U26)","v":{"$error":"#NUM!"}},{"$f":"SUM(V$8:V26)","v":{"$error":"#NUM!"}},0.42203856749311291,0.37106227106227102,0]
[null,null,20,"x",null," ",null," ",null,null,null,null,null,null,{"$error":"#N/A"}," ",20," ",{"$error":"#NUM!"},{"$error":"#NUM!"},{"$error":"#NUM!"},{"$error":"#NUM!"},{"$f":"SUM(U$8:U27)","v":{"$error":"#NUM!"}},{"$f":"SUM(V$8:V27)","v":{"$error":"#NUM!"}},0.42203856749311291,0.37106227106227102,0]
[null,null,21,"x",null," ",null," ",null,null,null,null,null,null,{"$error":"#N/A"}," ",21," ",{"$error":"#NUM!"},{"$error":"#NUM!"},{"$error":"#NUM!"},{"$error":"#NUM!"},{"$f":"SUM(U$8:U28)","v":{"$error":"#NUM!"}},{"$f":"SUM(V$8:V28)","v":{"$error":"#NUM!"}},0.42203856749311291,0.37106227106227102,0]
[null,null,22,"x",null," ",null," ",null,null,null,null,null,null,{"$error":"#N/A"}," ",22," ",{"$error":"#NUM!"},{"$error":"#NUM!"},{"$error":"#NUM!"},{"$error":"#NUM!"},{"$f":"SUM(U$8:U29)","v":{"$error":"#NUM!"}},{"$f":"SUM(V$8:V29)","v":{"$error":"#NUM!"}},0.42203856749311291,0.37106227106227102,0]
[null,null,23,"x",null," ",null," ",null,null,null,null,null,null,{"$error":"#N/A"}," ",23," ",{"$error":"#NUM!"},{"$f":"\"P\"&(IF(S30=S29,VLOOKUP(S30,INDIRECT(T29),2,FALSE),VLOOKUP(S30,P$8:Q$157,2,FALSE))+8)&\":R157\"","v":{"$error":"#NUM!"}},{"$error":"#NUM!"},{"$error":"#NUM!"},{"$f":"SUM(U$8:U30)","v":{"$error":"#NUM!"}},{"$f":"SUM(V$8:V30)","v":{"$error":"#NUM!"}},0.42203856749311291,0.37106227106227102,0]
[null,null,24,"x",null," ",null," ",null,null,null,null,null,null,{"$error":"#N/A"}," ",24," ",{"$error":"#NUM!"},{"$error":"#NUM!"},{"$error":"#NUM!"},{"$error":"#NUM!"},{"$f":"SUM(U$8:U31)","v":{"$error":"#NUM!"}},{"$f":"SUM(V$8:V31)","v":{"$error":"#NUM!"}},0.42203856749311291,0.37106227106227102,0]
[null,null,25,"x",null," ",null," ",null,null,null,null,null,null,{"$error":"#N/A"}," ",25," ",{"$error":"#NUM!"},{"$error":"#NUM!"},{"$error":"#NUM!"},{"$error":"#NUM!"},{"$f":"SUM(U$8:U32)","v":{"$error":"#NUM!"}},{"$f":"SUM(V$8:V32)","v":{"$error":"#NUM!"}},0.42203856749311291,0.37106227106227102,0]
[null,null,26,"x",null," ",null," ",null,null,null,null,null,null,{"$error":"#N/A"}," ",26," ",{"$error":"#NUM!"},{"$error":"#NUM!"},{"$error":"#NUM!"},{"$error":"#NUM!"},{"$f":"SUM(U$8:U33)","v":{"$error":"#NUM!"}},{"$f":"SUM(V$8:V33)","v":{"$error":"#NUM!"}},0.42203856749311291,0.37106227106227102,0]
[null,null,27,"x",null," ",null," ",null,null,null,null,null,null,{"$error":"#N/A"}," ",27," ",{"$error":"#NUM!"},{"$error":"#NUM!"},{"$error":"#NUM!"},{"$error":"#NUM!"},{"$f":"SUM(U$8:U34)","v":{"$error":"#NUM!"}},{"$f":"SUM(V$8:V34)","v":{"$error":"#NUM!"}},0.42203856749311291,0.37106227106227102,0]
[null,null,28,"x",null," ",null," ",null,null,null,null,null,null,{"$error":"#N/A"}," ",28," ",{"$error":"#NUM!"},{"$error":"#NUM!"},{"$error":"#NUM!"},{"$error":"#NUM!"},{"$f":"SUM(U$8:U35)","v":{"$error":"#NUM!"}},{"$f":"SUM(V$8:V35)","v":{"$error":"#NUM!"}},0.42203856749311291,0.37106227106227102,0]
[null,null,29,"x",null," ",null," ",null,null,null,null,null,null,{"$error":"#N/A"}," ",29," ",{"$error":"#NUM!"},{"$error":"#NUM!"},{"$error":"#NUM!"},{"$error":"#NUM!"},{"$f":"SUM(U$8:U36)","v":{"$error":"#NUM!"}},{"$f":"SUM(V$8:V36)","v":{"$error":"#NUM!"}},0.42203856749311291,0.37106227106227102,0]
[null,null,30,"x",null," ",null," ",null,null,null,null,null,null,{"$error":"#N/A"}," ",30," ",{"$error":"#NUM!"},{"$error":"#NUM!"},{"$error":"#NUM!"},{"$error":"#NUM!"},{"$f":"SUM(U$8:U37)","v":{"$error":"#NUM!"}},{"$f":"SUM(V$8:V37)","v":{"$error":"#NUM!"}},0.42203856749311291,0.37106227106227102,0]
[null,null,31,"x",null," ",null," ",null,null,null,null,null,null,{"$error":"#N/A"}," ",31," ",{"$f":"SMALL(P$8:P$157,Q38)","v":{"$error":"#NUM!"}},{"$error":"#NUM!"},{"$error":"#NUM!"},{"$error":"#NUM!"},{"$f":"SUM(U$8:U38)","v":{"$error":"#NUM!"}},{"$f":"SUM(V$8:V38)","v":{"$error":"#NUM!"}},0.42203856749311291,0.37106227106227102,0]
[null,null,32,"x",null," ",null,{"$f":"IF(F39<>\" \",C39*F39,\" \")","v":" "},null,null,null,null,null,null,{"$f":"IF(ISNUMBER(D39),C39,NA())","v":{"$error":"#N/A"}},{"$f":"F39","v":" "},32," ",{"$error":"#NUM!"},{"$error":"#NUM!"},{"$error":"#NUM!"},{"$error":"#NUM!"},{"$f":"SUM(U$8:U39)","v":{"$error":"#NUM!"}},{"$f":"SUM(V$8:V39)","v":{"$error":"#NUM!"}},0.42203856749311291,0.37106227106227102,0]
[null,null,33,"x",90," ",null," ",null,null,null,null,null,null,{"$error":"#N/A"}," ",33," ",{"$error":"#NUM!"},{"$error":"#NUM!"},{"$error":"#NUM!"},{"$error":"#NUM!"},{"$f":"SUM(U$8:U40)","v":{"$error":"#NUM!"}},{"$f":"SUM(V$8:V40)","v":{"$error":"#NUM!"}},0.42203856749311291,0.37106227106227102,0]
[null,null,34,"x",45," ",null," ",null,null,null,null,null,null,{"$error":"#N/A"}," ",34," ",{"$error":"#NUM!"},{"$error":"#NUM!"},{"$error":"#NUM!"},{"$error":"#NUM!"},{"$f":"SUM(U$8:U41)","v":{"$error":"#NUM!"}},{"$f":"SUM(V$8:V41)","v":{"$error":"#NUM!"}},0.42203856749311291,0.37106227106227102,0]
[null,null,35,"x",94," ",null," ",null,null," ",null,null,null,{"$error":"#N/A"}," ",35," ",{"$error":"#NUM!"},{"$error":"#NUM!"},{"$error":"#NUM!"},{"$error":"#NUM!"},{"$f":"SUM(U$8:U42)","v":{"$error":"#NUM!"}},{"$f":"SUM(V$8:V42)","v":{"$error":"#NUM!"}},0.42203856749311291,0.37106227106227102,0]
[null,null,36,"x",76," ",null," ",null,null,null,null,null,null,{"$error":"#N/A"}," ",36," ",{"$error":"#NUM!"},{"$error":"#NUM!"},{"$error":"#NUM!"},{"$error":"#NUM!"},{"$f":"SUM(U$8:U43)","v":{"$error":"#NUM!"}},{"$f":"SUM(V$8:V43)","v":{"$error":"#NUM!"}},0.42203856749311291,0.37106227106227102,0]
[null,null,37,"x",null," ",null," ",null,null,null,null,null,null,{"$error":"#N/A"}," ",37," ",{"$error":"#NUM!"},{"$error":"#NUM!"},{"$error":"#NUM!"},{"$error":"#NUM!"},{"$f":"SUM(U$8:U44)","v":{"$error":"#NUM!"}},{"$f":"SUM(V$8:V44)","v":{"$error":"#NUM!"}},0.42203856749311291,0.37106227106227102,0]
[null,null,38,"x",null," ",null," ",null,null,null,null,null,null,{"$error":"#N/A"}," ",38," ",{"$error":"#NUM!"},{"$error":"#NUM!"},{"$error":"#NUM!"},{"$error":"#NUM!"},{"$f":"SUM(U$8:U45)","v":{"$error":"#NUM!"}},{"$f":"SUM(V$8:V45)","v":{"$error":"#NUM!"}},0.42203856749311291,0.37106227106227102,0]
[null,null,39,"x",null," ",null," ",null,null,null,null,null,null,{"$error":"#N/A"}," ",39," ",{"$error":"#NUM!"},{"$error":"#NUM!"},{"$error":"#NUM!"},{"$error":"#NUM!"},{"$f":"SUM(U$8:U46)","v":{"$error":"#NUM!"}},{"$f":"SUM(V$8:V46)","v":{"$error":"#NUM!"}},0.42203856749311291,0.37106227106227102,0]
[null,null,40,"x",null," ",null," ",null,null,null,null,null,null,{"$error":"#N/A"}," ",40," ",{"$error":"#NUM!"},{"$error":"#NUM!"},{"$error":"#NUM!"},{"$error":"#NUM!"},{"$f":"SUM(U$8:U47)","v":{"$error":"#NUM!"}},{"$f":"SUM(V$8:V47)","v":{"$error":"#NUM!"}},0.42203856749311291,0.37106227106227102,0]
[null,null,41,"x",null," ",null," ",null,null,null,null,null,null,{"$error":"#N/A"}," ",41," ",{"$error":"#NUM!"},{"$error":"#NUM!"},{"$error":"#NUM!"},{"$error":"#NUM!"},{"$f":"SUM(U$8:U48)","v":{"$error":"#NUM!"}},{"$f":"SUM(V$8:V48)","v":{"$error":"#NUM!"}},0.42203856749311291,0.37106227106227102,0]
[null,null,42,"x",null," ",null," ",null,null,null,null,null,null,{"$error":"#N/A"}," ",42," ",{"$error":"#NUM!"},{"$error":"#NUM!"},{"$error":"#NUM!"},{"$error":"#NUM!"},{"$f":"SUM(U$8:U49)","v":{"$error":"#NUM!"}},{"$f":"SUM(V$8:V49)","v":{"$error":"#NUM!"}},0.42203856749311291,0.37106227106227102,0]
[null,null,43,"x",null," ",null," ",null,null,null,null,null,null,{"$error":"#N/A"}," ",43," ",{"$error":"#NUM!"},{"$error":"#NUM!"},{"$error":"#NUM!"},{"$error":"#NUM!"},{"$f":"SUM(U$8:U50)","v":{"$error":"#NUM!"}},{"$f":"SUM(V$8:V50)","v":{"$error":"#NUM!"}},0.42203856749311291,0.37106227106227102,0]
[null,null,44,"x",null," ",null," ",null,null,null,null,null,null,{"$error":"#N/A"}," ",44," ",{"$error":"#NUM!"},{"$error":"#NUM!"},{"$error":"#NUM!"},{"$error":"#NUM!"},{"$f":"SUM(U$8:U51)","v":{"$error":"#NUM!"}},{"$f":"SUM(V$8:V51)","v":{"$error":"#NUM!"}},0.42203856749311291,0.37106227106227102,0]
[null,null,45,"x",null," ",null," ",null,null,null,null,null,null,{"$error":"#N/A"}," ",45," ",{"$error":"#NUM!"},{"$error":"#NUM!"},{"$error":"#NUM!"},{"$error":"#NUM!"},{"$f":"SUM(U$8:U52)","v":{"$error":"#NUM!"}},{"$f":"SUM(V$8:V52)","v":{"$error":"#NUM!"}},0.42203856749311291,0.37106227106227102,0]
[null,null,46,"x",null," ",null," ",null,null,null,null,null,null,{"$error":"#N/A"}," ",46," ",{"$error":"#NUM!"},{"$error":"#NUM!"},{"$error":"#NUM!"},{"$error":"#NUM!"},{"$f":"SUM(U$8:U53)","v":{"$error":"#NUM!"}},{"$f":"SUM(V$8:V53)","v":{"$error":"#NUM!"}},0.42203856749311291,0.37106227106227102,0]
[null,null,47,"x",null," ",null," ",null,null,null,null,null,null,{"$error":"#N/A"}," ",47," ",{"$error":"#NUM!"},{"$error":"#NUM!"},{"$error":"#NUM!"},{"$error":"#NUM!"},{"$f":"SUM(U$8:U54)","v":{"$error":"#NUM!"}},{"$f":"SUM(V$8:V54)","v":{"$error":"#NUM!"}},0.42203856749311291,0.37106227106227102,0]
[null,null,48,"x",{"$f":"E54+1","v":1}," ",{"$f":"G54+1","v":1}," ",null,null,null,null,null,null,{"$error":"#N/A"}," ",48," ",{"$error":"#NUM!"},{"$error":"#NUM!"},{"$error":"#NUM!"},{"$error":"#NUM!"},{"$f":"SUM(U$8:U55)","v":{"$error":"#NUM!"}},{"$f":"SUM(V$8:V55)","v":{"$error":"#NUM!"}},0.42203856749311291,0.37106227106227102,0]
[null,null,49,"x",{"$f":"E55+1","v":2}," ",{"$f":"G55+1","v":2}," ",null,null,null,null,null,null,{"$error":"#N/A"}," ",49," ",{"$error":"#NUM!"},{"$error":"#NUM!"},{"$error":"#NUM!"},{"$error":"#NUM!"},{"$f":"SUM(U$8:U56)","v":{"$error":"#NUM!"}},{"$f":"SUM(V$8:V56)","v":{"$error":"#NUM!"}},0.42203856749311291,0.37106227106227102,0]
[null,null,50,"x",3," ",3," ",null,null,null,null,null,null,{"$error":"#N/A"}," ",50," ",{"$error":"#NUM!"},{"$error":"#NUM!"},{"$error":"#NUM!"},{"$error":"#NUM!"},{"$f":"SUM(U$8:U57)","v":{"$error":"#NUM!"}},{"$f":"SUM(V$8:V57)","v":{"$error":"#NUM!"}},0.42203856749311291,0.37106227106227102,0]
[null,null,51,"x",4," ",4," ",null,null,null,null,null,null,{"$error":"#N/A"}," ",51," ",{"$error":"#NUM!"},{"$error":"#NUM!"},{"$error":"#NUM!"},{"$error":"#NUM!"},{"$f":"SUM(U$8:U58)","v":{"$error":"#NUM!"}},{"$f":"SUM(V$8:V58)","v":{"$error":"#NUM!"}},0.42203856749311291,0.37106227106227102,0]
[null,null,52,"x",5," ",5," ",null,null,null,null,null,null,{"$error":"#N/A"}," ",52," ",{"$error":"#NUM!"},{"$error":"#NUM!"},{"$error":"#NUM!"},{"$error":"#NUM!"},{"$f":"SUM(U$8:U59)","v":{"$error":"#NUM!"}},{"$f":"SUM(V$8:V59)","v":{"$error":"#NUM!"}},0.42203856749311291,0.37106227106227102,0]
[null,null,53,"x",6," ",6," ",null,null,null,null,null,null,{"$error":"#N/A"}," ",53," ",{"$error":"#NUM!"},{"$error":"#NUM!"},{"$error":"#NUM!"},{"$error":"#NUM!"},{"$f":"SUM(U$8:U60)","v":{"$error":"#NUM!"}},{"$f":"SUM(V$8:V60)","v":{"$error":"#NUM!"}},0.42203856749311291,0.37106227106227102,0]
[null,null,54,"x",7," ",7," ",null,null,null,null,null,null,{"$error":"#N/A"}," ",54," ",{"$error":"#NUM!"},{"$error":"#NUM!"},{"$error":"#NUM!"},{"$error":"#NUM!"},{"$f":"SUM(U$8:U61)","v":{"$error":"#NUM!"}},{"$f":"SUM(V$8:V61)","v":{"$error":"#NUM!"}},0.42203856749311291,0.37106227106227102,0]
[null,null,55,"x",8," ",8," ",null,null,null,null,null,null,{"$error":"#N/A"}," ",55," ",{"$error":"#NUM!"},{"$error":"#NUM!"},{"$error":"#NUM!"},{"$error":"#NUM!"},{"$f":"SUM(U$8:U62)","v":{"$error":"#NUM!"}},{"$f":"SUM(V$8:V62)","v":{"$error":"#NUM!"}},0.42203856749311291,0.37106227106227102,0]
[null,null,56,"x",9," ",9," ",null,null,null,null,null,null,{"$error":"#N/A"}," ",56," ",{"$error":"#NUM!"},{"$error":"#NUM!"},{"$error":"#NUM!"},{"$error":"#NUM!"},{"$f":"SUM(U$8:U63)","v":{"$error":"#NUM!"}},{"$f":"SUM(V$8:V63)","v":{"$error":"#NUM!"}},0.42203856749311291,0.37106227106227102,0]
[null,null,57,"x",10," ",10," ",null,null,null,null,null,null,{"$error":"#N/A"}," ",57," ",{"$error":"#NUM!"},{"$error":"#NUM!"},{"$error":"#NUM!"},{"$error":"#NUM!"},{"$f":"SUM(U$8:U64)","v":{"$error":"#NUM!"}},{"$f":"SUM(V$8:V64)","v":{"$error":"#NUM!"}},0.42203856749311291,0.37106227106227102,0]
[null,null,58,"x",11," ",11," ",null,null,null,null,null,null,{"$error":"#N/A"}," ",58," ",{"$error":"#NUM!"},{"$error":"#NUM!"},{"$error":"#NUM!"},{"$error":"#NUM!"},{"$f":"SUM(U$8:U65)","v":{"$error":"#NUM!"}},{"$f":"SUM(V$8:V65)","v":{"$error":"#NUM!"}},0.42203856749311291,0.37106227106227102,0]
[null,null,59,"x",12," ",12," ",null,null,null,null,null,null,{"$error":"#N/A"}," ",59," ",{"$error":"#NUM!"},{"$error":"#NUM!"},{"$error":"#NUM!"},{"$error":"#NUM!"},{"$f":"SUM(U$8:U66)","v":{"$error":"#NUM!"}},{"$f":"SUM(V$8:V66)","v":{"$error":"#NUM!"}},0.42203856749311291,0.37106227106227102,0]
[null,null,60,"x",13," ",13," ",null,null,null,null,null,null,{"$error":"#N/A"}," ",60," ",{"$error":"#NUM!"},{"$error":"#NUM!"},{"$error":"#NUM!"},{"$error":"#NUM!"},{"$f":"SUM(U$8:U67)","v":{"$error":"#NUM!"}},{"$f":"SUM(V$8:V67)","v":{"$error":"#NUM!"}},0.42203856749311291,0.37106227106227102,0]
[null,null,61,"x",14," ",14," ",null,null,null,null,null,null,{"$error":"#N/A"}," ",61," ",{"$error":"#NUM!"},{"$error":"#NUM!"},{"$error":"#NUM!"},{"$error":"#NUM!"},{"$f":"SUM(U$8:U68)","v":{"$error":"#NUM!"}},{"$f":"SUM(V$8:V68)","v":{"$error":"#NUM!"}},0.42203856749311291,0.37106227106227102,0]
[null,null,62,"x",15," ",15," ",null,null,null,null,null,null,{"$error":"#N/A"}," ",62," ",{"$error":"#NUM!"},{"$error":"#NUM!"},{"$error":"#NUM!"},{"$error":"#NUM!"},{"$f":"SUM(U$8:U69)","v":{"$error":"#NUM!"}},{"$f":"SUM(V$8:V69)","v":{"$error":"#NUM!"}},0.42203856749311291,0.37106227106227102,0]
[null,null,63,"x",16," ",16," ",null,null,null,null,null,null,{"$error":"#N/A"}," ",63," ",{"$error":"#NUM!"},{"$error":"#NUM!"},{"$error":"#NUM!"},{"$error":"#NUM!"},{"$f":"SUM(U$8:U70)","v":{"$error":"#NUM!"}},{"$f":"SUM(V$8:V70)","v":{"$error":"#NUM!"}},0.42203856749311291,0.37106227106227102,0]
[null,null,64,"x",17," ",17," ",null,null,null,null,null,null,{"$error":"#N/A"}," ",64," ",{"$error":"#NUM!"},{"$error":"#NUM!"},{"$error":"#NUM!"},{"$error":"#NUM!"},{"$f":"SUM(U$8:U71)","v":{"$error":"#NUM!"}},{"$f":"SUM(V$8:V71)","v":{"$error":"#NUM!"}},0.42203856749311291,0.37106227106227102,0]
[null,null,65,"x",18," ",18," ",null,null,null,null,null,null,{"$error":"#N/A"}," ",65," ",{"$error":"#NUM!"},{"$error":"#NUM!"},{"$error":"#NUM!"},{"$error":"#NUM!"},{"$f":"SUM(U$8:U72)","v":{"$error":"#NUM!"}},{"$f":"SUM(V$8:V72)","v":{"$error":"#NUM!"}},0.42203856749311291,0.37106227106227102,0]
[null,null,66,"x",19,{"$f":"IF(ISNUMBER(D73),D73/$F$6,\" \")","v":" "},19,{"$f":"IF(F73<>\" \",C73*F73,\" \")","v":" "},null,null,null,null,null,null,{"$f":"IF(ISNUMBER(D73),C73,NA())","v":{"$error":"#N/A"}},{"$f":"F73","v":" "},{"$f":"C73","v":66},{"$f":"H73","v":" "},{"$error":"#NUM!"},{"$error":"#NUM!"},{"$error":"#NUM!"},{"$error":"#NUM!"},{"$f":"SUM(U$8:U73)","v":{"$error":"#NUM!"}},{"$f":"SUM(V$8:V73)","v":{"$error":"#NUM!"}},{"$f":"$K$9","v":0.42203856749311291},{"$f":"$K$13","v":0.37106227106227102},{"$f":"IF(ISNUMBER(D73),Q73*ABS(F73-$K$9),0)","v":0}]
[null,null,{"$f":"C73+1","v":67},"x",20," ",20," ",null,null,null,null,null,null,{"$error":"#N/A"}," ",67," ",{"$f":"SMALL(P$8:P$157,Q74)","v":{"$error":"#NUM!"}},{"$f":"\"P\"&(IF(S74=S73,VLOOKUP(S74,INDIRECT(T73),2,FALSE),VLOOKUP(S74,P$8:Q$157,2,FALSE))+8)&\":R157\"","v":{"$error":"#NUM!"}},{"$error":"#NUM!"},{"$error":"#NUM!"},{"$f":"SUM(U$8:U74)","v":{"$error":"#NUM!"}},{"$f":"SUM(V$8:V74)","v":{"$error":"#NUM!"}},0.42203856749311291,0.37106227106227102,0]
[null,null,68,"x",21," ",21," ",null,null,null,null,null,null,{"$error":"#N/A"}," ",68," ",{"$error":"#NUM!"},{"$error":"#NUM!"},{"$f":"IF(S75=S74,VLOOKUP(S75,INDIRECT(T74),2,FALSE),VLOOKUP(S75,P$8:R$157,2,FALSE))","v":{"$error":"#NUM!"}},{"$f":"IF(S75=S74,VLOOKUP(S75,INDIRECT(T74),3,FALSE),VLOOKUP(S75,P$8:R$157,3,FALSE))","v":{"$error":"#NUM!"}},{"$f":"SUM(U$8:U75)","v":{"$error":"#NUM!"}},{"$f":"SUM(V$8:V75)","v":{"$error":"#NUM!"}},0.42203856749311291,0.37106227106227102,0]
[null,null,69,"x",22," ",22," ",null,null,null,null,null,null,{"$error":"#N/A"}," ",69," ",{"$error":"#NUM!"},{"$error":"#NUM!"},{"$error":"#NUM!"},{"$error":"#NUM!"},{"$f":"SUM(U$8:U76)","v":{"$error":"#NUM!"}},{"$f":"SUM(V$8:V76)","v":{"$error":"#NUM!"}},0.42203856749311291,0.37106227106227102,0]
[null,null,70,"x",23," ",23," ",null,null,null,null,null,null,{"$error":"#N/A"}," ",70," ",{"$error":"#NUM!"},{"$error":"#NUM!"},{"$error":"#NUM!"},{"$error":"#NUM!"},{"$f":"SUM(U$8:U77)","v":{"$error":"#NUM!"}},{"$f":"SUM(V$8:V77)","v":{"$error":"#NUM!"}},0.42203856749311291,0.37106227106227102,0]
[null,null,71,"x",24," ",24," ",null,null,null,null,null,null,{"$error":"#N/A"}," ",71," ",{"$error":"#NUM!"},{"$error":"#NUM!"},{"$error":"#NUM!"},{"$error":"#NUM!"},{"$f":"SUM(U$8:U78)","v":{"$error":"#NUM!"}},{"$f":"SUM(V$8:V78)","v":{"$error":"#NUM!"}},0.42203856749311291,0.37106227106227102,0]
[null,null,72,"x",25," ",25," ",null,null,null,null,null,null,{"$error":"#N/A"}," ",72," ",{"$error":"#NUM!"},{"$error":"#NUM!"},{"$error":"#NUM!"},{"$error":"#NUM!"},{"$f":"SUM(U$8:U79)","v":{"$error":"#NUM!"}},{"$f":"SUM(V$8:V79)","v":{"$error":"#NUM!"}},0.42203856749311291,0.37106227106227102,0]
[null,null,73,"x",26," ",26," ",null,null,null,null,null,null,{"$error":"#N/A"}," ",73," ",{"$error":"#NUM!"},{"$error":"#NUM!"},{"$error":"#NUM!"},{"$error":"#NUM!"},{"$f":"SUM(U$8:U80)","v":{"$error":"#NUM!"}},{"$f":"SUM(V$8:V80)","v":{"$error":"#NUM!"}},0.42203856749311291,0.37106227106227102,0]
[null,null,74,"x",27," ",27," ",null,null,null,null,null,null,{"$error":"#N/A"}," ",74," ",{"$error":"#NUM!"},{"$error":"#NUM!"},{"$error":"#NUM!"},{"$error":"#NUM!"},{"$f":"SUM(U$8:U81)","v":{"$error":"#NUM!"}},{"$f":"SUM(V$8:V81)","v":{"$error":"#NUM!"}},0.42203856749311291,0.37106227106227102,0]
[null,null,75,"x",28," ",28," ",null,null,null,null,null,null,{"$error":"#N/A"}," ",75," ",{"$error":"#NUM!"},{"$error":"#NUM!"},{"$error":"#NUM!"},{"$error":"#NUM!"},{"$f":"SUM(U$8:U82)","v":{"$error":"#NUM!"}},{"$f":"SUM(V$8:V82)","v":{"$error":"#NUM!"}},0.42203856749311291,0.37106227106227102,0]
[null,null,76,"x",29," ",29," ",null,null,null,null,null,null,{"$error":"#N/A"}," ",76," ",{"$error":"#NUM!"},{"$error":"#NUM!"},{"$error":"#NUM!"},{"$error":"#NUM!"},{"$f":"SUM(U$8:U83)","v":{"$error":"#NUM!"}},{"$f":"SUM(V$8:V83)","v":{"$error":"#NUM!"}},0.42203856749311291,0.37106227106227102,0]
[null,null,77,"x",30," ",30," ",null,null,null,null,null,null,{"$error":"#N/A"}," ",77," ",{"$error":"#NUM!"},{"$error":"#NUM!"},{"$error":"#NUM!"},{"$error":"#NUM!"},{"$f":"SUM(U$8:U84)","v":{"$error":"#NUM!"}},{"$f":"SUM(V$8:V84)","v":{"$error":"#NUM!"}},0.42203856749311291,0.37106227106227102,0]
[null,null,78,"x",31," ",31," ",null,null,null,null,null,null,{"$error":"#N/A"}," ",78," ",{"$error":"#NUM!"},{"$error":"#NUM!"},{"$error":"#NUM!"},{"$error":"#NUM!"},{"$f":"SUM(U$8:U85)","v":{"$error":"#NUM!"}},{"$f":"SUM(V$8:V85)","v":{"$error":"#NUM!"}},0.42203856749311291,0.37106227106227102,0]
[null,null,79,"x",32," ",32," ",null,null,null,null,null,null,{"$error":"#N/A"}," ",79," ",{"$error":"#NUM!"},{"$error":"#NUM!"},{"$error":"#NUM!"},{"$error":"#NUM!"},{"$f":"SUM(U$8:U86)","v":{"$error":"#NUM!"}},{"$f":"SUM(V$8:V86)","v":{"$error":"#NUM!"}},0.42203856749311291,0.37106227106227102,0]
[null,null,80,"x",33," ",33," ",null,null,null,null,null,null,{"$error":"#N/A"}," ",80," ",{"$error":"#NUM!"},{"$error":"#NUM!"},{"$error":"#NUM!"},{"$error":"#NUM!"},{"$f":"SUM(U$8:U87)","v":{"$error":"#NUM!"}},{"$f":"SUM(V$8:V87)","v":{"$error":"#NUM!"}},0.42203856749311291,0.37106227106227102,0]
[null,null,81,"x",34," ",34," ",null,null,null,null,null,null,{"$error":"#N/A"}," ",81," ",{"$error":"#NUM!"},{"$error":"#NUM!"},{"$error":"#NUM!"},{"$error":"#NUM!"},{"$f":"SUM(U$8:U88)","v":{"$error":"#NUM!"}},{"$f":"SUM(V$8:V88)","v":{"$error":"#NUM!"}},0.42203856749311291,0.37106227106227102,0]
[null,null,82,"x",35," ",35," ",null,null,null,null,null,null,{"$error":"#N/A"}," ",82," ",{"$error":"#NUM!"},{"$error":"#NUM!"},{"$error":"#NUM!"},{"$error":"#NUM!"},{"$f":"SUM(U$8:U89)","v":{"$error":"#NUM!"}},{"$f":"SUM(V$8:V89)","v":{"$error":"#NUM!"}},0.42203856749311291,0.37106227106227102,0]
[null,null,83,"x",36," ",36," ",null,null,null,null,null,null,{"$error":"#N/A"}," ",83," ",{"$error":"#NUM!"},{"$error":"#NUM!"},{"$error":"#NUM!"},{"$error":"#NUM!"},{"$f":"SUM(U$8:U90)","v":{"$error":"#NUM!"}},{"$f":"SUM(V$8:V90)","v":{"$error":"#NUM!"}},0.42203856749311291,0.37106227106227102,0]
[null,null,84,"x",37," ",37," ",null,null,null,null,null,null,{"$error":"#N/A"}," ",84," ",{"$error":"#NUM!"},{"$error":"#NUM!"},{"$error":"#NUM!"},{"$error":"#NUM!"},{"$f":"SUM(U$8:U91)","v":{"$error":"#NUM!"}},{"$f":"SUM(V$8:V91)","v":{"$error":"#NUM!"}},0.42203856749311291,0.37106227106227102,0]
[null,null,85,"x",38," ",38," ",null,null,null,null,null,null,{"$error":"#N/A"}," ",85," ",{"$error":"#NUM!"},{"$error":"#NUM!"},{"$error":"#NUM!"},{"$error":"#NUM!"},{"$f":"SUM(U$8:U92)","v":{"$error":"#NUM!"}},{"$f":"SUM(V$8:V92)","v":{"$error":"#NUM!"}},0.42203856749311291,0.37106227106227102,0]
[null,null,86,"x",39," ",39," ",null,null,null,null,null,null,{"$error":"#N/A"}," ",86," ",{"$error":"#NUM!"},{"$error":"#NUM!"},{"$error":"#NUM!"},{"$error":"#NUM!"},{"$f":"SUM(U$8:U93)","v":{"$error":"#NUM!"}},{"$f":"SUM(V$8:V93)","v":{"$error":"#NUM!"}},0.42203856749311291,0.37106227106227102,0]
[null,null,87,"x",40," ",40," ",null,null,null,null,null,null,{"$error":"#N/A"}," ",87," ",{"$error":"#NUM!"},{"$error":"#NUM!"},{"$error":"#NUM!"},{"$error":"#NUM!"},{"$f":"SUM(U$8:U94)","v":{"$error":"#NUM!"}},{"$f":"SUM(V$8:V94)","v":{"$error":"#NUM!"}},0.42203856749311291,0.37106227106227102,0]
[null,null,88,"x",41," ",41," ",null,null,null,null,null,null,{"$error":"#N/A"}," ",88," ",{"$error":"#NUM!"},{"$error":"#NUM!"},{"$error":"#NUM!"},{"$error":"#NUM!"},{"$f":"SUM(U$8:U95)","v":{"$error":"#NUM!"}},{"$f":"SUM(V$8:V95)","v":{"$error":"#NUM!"}},0.42203856749311291,0.37106227106227102,0]
[null,null,89,"x",42," ",42," ",null,null,null,null,null,null,{"$error":"#N/A"}," ",89," ",{"$error":"#NUM!"},{"$error":"#NUM!"},{"$error":"#NUM!"},{"$error":"#NUM!"},{"$f":"SUM(U$8:U96)","v":{"$error":"#NUM!"}},{"$f":"SUM(V$8:V96)","v":{"$error":"#NUM!"}},0.42203856749311291,0.37106227106227102,0]
[null,null,90,"x",43," ",43," ",null,null,null,null,null,null,{"$error":"#N/A"}," ",90," ",{"$error":"#NUM!"},{"$error":"#NUM!"},{"$error":"#NUM!"},{"$error":"#NUM!"},{"$f":"SUM(U$8:U97)","v":{"$error":"#NUM!"}},{"$f":"SUM(V$8:V97)","v":{"$error":"#NUM!"}},0.42203856749311291,0.37106227106227102,0]
[null,null,91,"x",44," ",44," ",null,null,null,null,null,null,{"$error":"#N/A"}," ",91," ",{"$error":"#NUM!"},{"$error":"#NUM!"},{"$error":"#NUM!"},{"$error":"#NUM!"},{"$f":"SUM(U$8:U98)","v":{"$error":"#NUM!"}},{"$f":"SUM(V$8:V98)","v":{"$error":"#NUM!"}},0.42203856749311291,0.37106227106227102,0]
[null,null,92,"x",45," ",45," ",null,null,null,null,null,null,{"$error":"#N/A"}," ",92," ",{"$error":"#NUM!"},{"$error":"#NUM!"},{"$error":"#NUM!"},{"$error":"#NUM!"},{"$f":"SUM(U$8:U99)","v":{"$error":"#NUM!"}},{"$f":"SUM(V$8:V99)","v":{"$error":"#NUM!"}},0.42203856749311291,0.37106227106227102,0]
[null,null,93,"x",46," ",46," ",null,null,null,null,null,null,{"$error":"#N/A"}," ",93," ",{"$error":"#NUM!"},{"$error":"#NUM!"},{"$error":"#NUM!"},{"$error":"#NUM!"},{"$f":"SUM(U$8:U100)","v":{"$error":"#NUM!"}},{"$f":"SUM(V$8:V100)","v":{"$error":"#NUM!"}},0.42203856749311291,0.37106227106227102,0]
[null,null,94,"x",47," ",47," ",null,null,null,null,null,null,{"$error":"#N/A"}," ",94," ",{"$error":"#NUM!"},{"$error":"#NUM!"},{"$error":"#NUM!"},{"$error":"#NUM!"},{"$f":"SUM(U$8:U101)","v":{"$error":"#NUM!"}},{"$f":"SUM(V$8:V101)","v":{"$error":"#NUM!"}},0.42203856749311291,0.37106227106227102,0]
[null,null,95,"x",48," ",48," ",null,null,null,null,null,null,{"$error":"#N/A"}," ",95," ",{"$error":"#NUM!"},{"$error":"#NUM!"},{"$error":"#NUM!"},{"$error":"#NUM!"},{"$f":"SUM(U$8:U102)","v":{"$error":"#NUM!"}},{"$f":"SUM(V$8:V102)","v":{"$error":"#NUM!"}},0.42203856749311291,0.37106227106227102,0]
[null,null,96,"x",49," ",49," ",null,null,null,null,null,null,{"$error":"#N/A"}," ",96," ",{"$error":"#NUM!"},{"$error":"#NUM!"},{"$error":"#NUM!"},{"$error":"#NUM!"},{"$f":"SUM(U$8:U103)","v":{"$error":"#NUM!"}},{"$f":"SUM(V$8:V103)","v":{"$error":"#NUM!"}},0.42203856749311291,0.37106227106227102,0]
[null,null,97,"x",50," ",50," ",null,null,null,null,null,null,{"$error":"#N/A"}," ",97," ",{"$error":"#NUM!"},{"$error":"#NUM!"},{"$error":"#NUM!"},{"$error":"#NUM!"},{"$f":"SUM(U$8:U104)","v":{"$error":"#NUM!"}},{"$f":"SUM(V$8:V104)","v":{"$error":"#NUM!"}},0.42203856749311291,0.37106227106227102,0]
[null,null,98,"x",51," ",51," ",null,null,null,null,null,null,{"$error":"#N/A"}," ",98," ",{"$error":"#NUM!"},{"$error":"#NUM!"},{"$error":"#NUM!"},{"$error":"#NUM!"},{"$f":"SUM(U$8:U105)","v":{"$error":"#NUM!"}},{"$f":"SUM(V$8:V105)","v":{"$error":"#NUM!"}},0.42203856749311291,0.37106227106227102,0]
[null,null,99,"x",52," ",52," ",null,null,null,null,null,null,{"$error":"#N/A"}," ",99," ",{"$error":"#NUM!"},{"$error":"#NUM!"},{"$error":"#NUM!"},{"$error":"#NUM!"},{"$f":"SUM(U$8:U106)","v":{"$error":"#NUM!"}},{"$f":"SUM(V$8:V106)","v":{"$error":"#NUM!"}},0.42203856749311291,0.37106227106227102,0]
[null,null,100,"x",53," ",53," ",null,null,null,null,null,null,{"$error":"#N/A"}," ",100," ",{"$error":"#NUM!"},{"$error":"#NUM!"},{"$error":"#NUM!"},{"$error":"#NUM!"},{"$f":"SUM(U$8:U107)","v":{"$error":"#NUM!"}},{"$f":"SUM(V$8:V107)","v":{"$error":"#NUM!"}},0.42203856749311291,0.37106227106227102,0]
[null,null,101,"x",54," ",54," ",null,null,null,null,null,null,{"$error":"#N/A"}," ",101," ",{"$error":"#NUM!"},{"$error":"#NUM!"},{"$error":"#NUM!"},{"$error":"#NUM!"},{"$f":"SUM(U$8:U108)","v":{"$error":"#NUM!"}},{"$f":"SUM(V$8:V108)","v":{"$error":"#NUM!"}},0.42203856749311291,0.37106227106227102,0]
[null,null,102,"x",null," ",null," ",null,null,null,null,null,null,{"$error":"#N/A"}," ",102," ",{"$error":"#NUM!"},{"$error":"#NUM!"},{"$error":"#NUM!"},{"$error":"#NUM!"},{"$f":"SUM(U$8:U109)","v":{"$error":"#NUM!"}},{"$f":"SUM(V$8:V109)","v":{"$error":"#NUM!"}},0.42203856749311291,0.37106227106227102,0]
[null,null,103,"x",null," ",null," ",null,null,null,null,null,null,{"$error":"#N/A"}," ",103," ",{"$error":"#NUM!"},{"$error":"#NUM!"},{"$error":"#NUM!"},{"$error":"#NUM!"},{"$f":"SUM(U$8:U110)","v":{"$error":"#NUM!"}},{"$f":"SUM(V$8:V110)","v":{"$error":"#NUM!"}},0.42203856749311291,0.37106227106227102,0]
[null,null,104,"x",null," ",null," ",null,null,null,null,null,null,{"$error":"#N/A"}," ",104," ",{"$error":"#NUM!"},{"$error":"#NUM!"},{"$error":"#NUM!"},{"$error":"#NUM!"},{"$f":"SUM(U$8:U111)","v":{"$error":"#NUM!"}},{"$f":"SUM(V$8:V111)","v":{"$error":"#NUM!"}},0.42203856749311291,0.37106227106227102,0]
[null,null,105,"x",null," ",null," ",null,null,null,null,null,null,{"$error":"#N/A"}," ",105," ",{"$error":"#NUM!"},{"$error":"#NUM!"},{"$error":"#NUM!"},{"$error":"#NUM!"},{"$f":"SUM(U$8:U112)","v":{"$error":"#NUM!"}},{"$f":"SUM(V$8:V112)","v":{"$error":"#NUM!"}},0.42203856749311291,0.37106227106227102,0]
[null,null,106,"x",null," ",null," ",null,null,null,null,null,null,{"$error":"#N/A"}," ",106," ",{"$error":"#NUM!"},{"$error":"#NUM!"},{"$error":"#NUM!"},{"$error":"#NUM!"},{"$f":"SUM(U$8:U113)","v":{"$error":"#NUM!"}},{"$f":"SUM(V$8:V113)","v":{"$error":"#NUM!"}},0.42203856749311291,0.37106227106227102,0]
[null,null,107,"x",null," ",null," ",null,null,null,null,null,null,{"$error":"#N/A"}," ",107," ",{"$error":"#NUM!"},{"$error":"#NUM!"},{"$error":"#NUM!"},{"$error":"#NUM!"},{"$f":"SUM(U$8:U114)","v":{"$error":"#NUM!"}},{"$f":"SUM(V$8:V114)","v":{"$error":"#NUM!"}},0.42203856749311291,0.37106227106227102,0]
[null,null,108,"x",null," ",null," ",null,null,null,null,null,null,{"$error":"#N/A"}," ",108," ",{"$error":"#NUM!"},{"$error":"#NUM!"},{"$error":"#NUM!"},{"$error":"#NUM!"},{"$f":"SUM(U$8:U115)","v":{"$error":"#NUM!"}},{"$f":"SUM(V$8:V115)","v":{"$error":"#NUM!"}},0.42203856749311291,0.37106227106227102,0]
[null,null,109,"x",null," ",null," ",null,null,null,null,null,null,{"$error":"#N/A"}," ",109," ",{"$error":"#NUM!"},{"$error":"#NUM!"},{"$error":"#NUM!"},{"$error":"#NUM!"},{"$f":"SUM(U$8:U116)","v":{"$error":"#NUM!"}},{"$f":"SUM(V$8:V116)","v":{"$error":"#NUM!"}},0.42203856749311291,0.37106227106227102,0]
[null,null,110,"x",null," ",null," ",null,null,null,null,null,null,{"$error":"#N/A"}," ",110," ",{"$error":"#NUM!"},{"$error":"#NUM!"},{"$error":"#NUM!"},{"$error":"#NUM!"},{"$f":"SUM(U$8:U117)","v":{"$error":"#NUM!"}},{"$f":"SUM(V$8:V117)","v":{"$error":"#NUM!"}},0.42203856749311291,0.37106227106227102,0]
[null,null,111,"x",null," ",null," ",null,null,null,null,null,null,{"$error":"#N/A"}," ",111," ",{"$error":"#NUM!"},{"$error":"#NUM!"},{"$error":"#NUM!"},{"$error":"#NUM!"},{"$f":"SUM(U$8:U118)","v":{"$error":"#NUM!"}},{"$f":"SUM(V$8:V118)","v":{"$error":"#NUM!"}},0.42203856749311291,0.37106227106227102,0]
[null,null,112,"x",null," ",null," ",null,null,null,null,null,null,{"$error":"#N/A"}," ",112," ",{"$error":"#NUM!"},{"$error":"#NUM!"},{"$error":"#NUM!"},{"$error":"#NUM!"},{"$f":"SUM(U$8:U119)","v":{"$error":"#NUM!"}},{"$f":"SUM(V$8:V119)","v":{"$error":"#NUM!"}},0.42203856749311291,0.37106227106227102,0]
[null,null,113,"x",null," ",null," ",null,null,null,null,null,null,{"$error":"#N/A"}," ",113," ",{"$error":"#NUM!"},{"$error":"#NUM!"},{"$error":"#NUM!"},{"$error":"#NUM!"},{"$f":"SUM(U$8:U120)","v":{"$error":"#NUM!"}},{"$f":"SUM(V$8:V120)","v":{"$error":"#NUM!"}},0.42203856749311291,0.37106227106227102,0]
[null,null,114,"x",null," ",null," ",null,null,null,null,null,null,{"$error":"#N/A"}," ",114," ",{"$error":"#NUM!"},{"$error":"#NUM!"},{"$error":"#NUM!"},{"$error":"#NUM!"},{"$f":"SUM(U$8:U121)","v":{"$error":"#NUM!"}},{"$f":"SUM(V$8:V121)","v":{"$error":"#NUM!"}},0.42203856749311291,0.37106227106227102,0]
[null,null,115,"x",null," ",null," ",null,null,null,null,null,null,{"$error":"#N/A"}," ",115," ",{"$error":"#NUM!"},{"$error":"#NUM!"},{"$error":"#NUM!"},{"$error":"#NUM!"},{"$f":"SUM(U$8:U122)","v":{"$error":"#NUM!"}},{"$f":"SUM(V$8:V122)","v":{"$error":"#NUM!"}},0.42203856749311291,0.37106227106227102,0]
[null,null,116,"x",null," ",null," ",null,null,null,null,null,null,{"$error":"#N/A"}," ",116," ",{"$error":"#NUM!"},{"$error":"#NUM!"},{"$error":"#NUM!"},{"$error":"#NUM!"},{"$f":"SUM(U$8:U123)","v":{"$error":"#NUM!"}},{"$f":"SUM(V$8:V123)","v":{"$error":"#NUM!"}},0.42203856749311291,0.37106227106227102,0]
[null,null,117,"x",null," ",null," ",null,null,null,null,null,null,{"$error":"#N/A"}," ",117," ",{"$error":"#NUM!"},{"$error":"#NUM!"},{"$error":"#NUM!"},{"$error":"#NUM!"},{"$f":"SUM(U$8:U124)","v":{"$error":"#NUM!"}},{"$f":"SUM(V$8:V124)","v":{"$error":"#NUM!"}},0.42203856749311291,0.37106227106227102,0]
[null,null,118,"x",null," ",null," ",null,null,null,null,null,null,{"$error":"#N/A"}," ",118," ",{"$error":"#NUM!"},{"$error":"#NUM!"},{"$error":"#NUM!"},{"$error":"#NUM!"},{"$f":"SUM(U$8:U125)","v":{"$error":"#NUM!"}},{"$f":"SUM(V$8:V125)","v":{"$error":"#NUM!"}},0.42203856749311291,0.37106227106227102,0]
[null,null,119,"x",null," ",null," ",null,null,null,null,null,null,{"$error":"#N/A"}," ",119," ",{"$error":"#NUM!"},{"$error":"#NUM!"},{"$error":"#NUM!"},{"$error":"#NUM!"},{"$f":"SUM(U$8:U126)","v":{"$error":"#NUM!"}},{"$f":"SUM(V$8:V126)","v":{"$error":"#NUM!"}},0.42203856749311291,0.37106227106227102,0]
[null,null,120,"x",null," ",null," ",null,null,null,null,null,null,{"$error":"#N/A"}," ",120," ",{"$error":"#NUM!"},{"$error":"#NUM!"},{"$error":"#NUM!"},{"$error":"#NUM!"},{"$f":"SUM(U$8:U127)","v":{"$error":"#NUM!"}},{"$f":"SUM(V$8:V127)","v":{"$error":"#NUM!"}},0.42203856749311291,0.37106227106227102,0]
[null,null,121,"x",null," ",null," ",null,null,null,null,null,null,{"$error":"#N/A"}," ",121," ",{"$error":"#NUM!"},{"$error":"#NUM!"},{"$error":"#NUM!"},{"$error":"#NUM!"},{"$f":"SUM(U$8:U128)","v":{"$error":"#NUM!"}},{"$f":"SUM(V$8:V128)","v":{"$error":"#NUM!"}},0.42203856749311291,0.37106227106227102,0]
[null,null,122,"x",null," ",null," ",null,null,null,null,null,null,{"$error":"#N/A"}," ",122," ",{"$error":"#NUM!"},{"$error":"#NUM!"},{"$error":"#NUM!"},{"$error":"#NUM!"},{"$f":"SUM(U$8:U129)","v":{"$error":"#NUM!"}},{"$f":"SUM(V$8:V129)","v":{"$error":"#NUM!"}},0.42203856749311291,0.37106227106227102,0]
[null,null,123,"x",null," ",null," ",null,null,null,null,null,null,{"$error":"#N/A"}," ",123," ",{"$error":"#NUM!"},{"$error":"#NUM!"},{"$error":"#NUM!"},{"$error":"#NUM!"},{"$f":"SUM(U$8:U130)","v":{"$error":"#NUM!"}},{"$f":"SUM(V$8:V130)","v":{"$error":"#NUM!"}},0.42203856749311291,0.37106227106227102,0]
[null,null,124,"x",null," ",null," ",null,null,null,null,null,null,{"$error":"#N/A"}," ",124," ",{"$error":"#NUM!"},{"$error":"#NUM!"},{"$error":"#NUM!"},{"$error":"#NUM!"},{"$f":"SUM(U$8:U131)","v":{"$error":"#NUM!"}},{"$f":"SUM(V$8:V131)","v":{"$error":"#NUM!"}},0.42203856749311291,0.37106227106227102,0]
[null,null,125,"x",null," ",null," ",null,null,null,null,null,null,{"$error":"#N/A"}," ",125," ",{"$error":"#NUM!"},{"$error":"#NUM!"},{"$error":"#NUM!"},{"$error":"#NUM!"},{"$f":"SUM(U$8:U132)","v":{"$error":"#NUM!"}},{"$f":"SUM(V$8:V132)","v":{"$error":"#NUM!"}},0.42203856749311291,0.37106227106227102,0]
[null,null,126,"x",null," ",null," ",null,null,null,null,null,null,{"$error":"#N/A"}," ",126," ",{"$error":"#NUM!"},{"$error":"#NUM!"},{"$error":"#NUM!"},{"$error":"#NUM!"},{"$f":"SUM(U$8:U133)","v":{"$error":"#NUM!"}},{"$f":"SUM(V$8:V133)","v":{"$error":"#NUM!"}},0.42203856749311291,0.37106227106227102,0]
[null,null,127,"x",null," ",null," ",null,null,null,null,null,null,{"$error":"#N/A"}," ",127," ",{"$error":"#NUM!"},{"$error":"#NUM!"},{"$error":"#NUM!"},{"$error":"#NUM!"},{"$f":"SUM(U$8:U134)","v":{"$error":"#NUM!"}},{"$f":"SUM(V$8:V134)","v":{"$error":"#NUM!"}},0.42203856749311291,0.37106227106227102,0]
[null,null,128,"x",null," ",null," ",null,null,null,null,null,null,{"$error":"#N/A"}," ",128," ",{"$error":"#NUM!"},{"$error":"#NUM!"},{"$error":"#NUM!"},{"$error":"#NUM!"},{"$f":"SUM(U$8:U135)","v":{"$error":"#NUM!"}},{"$f":"SUM(V$8:V135)","v":{"$error":"#NUM!"}},0.42203856749311291,0.37106227106227102,0]
[null,null,129,"x",null," ",null," ",null,null,null,null,null,null,{"$error":"#N/A"}," ",129," ",{"$error":"#NUM!"},{"$error":"#NUM!"},{"$error":"#NUM!"},{"$error":"#NUM!"},{"$f":"SUM(U$8:U136)","v":{"$error":"#NUM!"}},{"$f":"SUM(V$8:V136)","v":{"$error":"#NUM!"}},0.42203856749311291,0.37106227106227102,0]
[null,null,130,"x",null,{"$f":"IF(ISNUMBER(D137),D137/$F$6,\" \")","v":" "},null,{"$f":"IF(F137<>\" \",C137*F137,\" \")","v":" "},null,null,null,null,null,null,{"$f":"IF(ISNUMBER(D137),C137,NA())","v":{"$error":"#N/A"}},{"$f":"F137","v":" "},{"$f":"C137","v":130},{"$f":"H137","v":" "},{"$error":"#NUM!"},{"$error":"#NUM!"},{"$error":"#NUM!"},{"$error":"#NUM!"},{"$f":"SUM(U$8:U137)","v":{"$error":"#NUM!"}},{"$f":"SUM(V$8:V137)","v":{"$error":"#NUM!"}},{"$f":"$K$9","v":0.42203856749311291},{"$f":"$K$13","v":0.37106227106227102},{"$f":"IF(ISNUMBER(D137),Q137*ABS(F137-$K$9),0)","v":0}]
[null,null,{"$f":"C137+1","v":131},"x",null," ",null," ",null,null,null,null,null,null,{"$error":"#N/A"}," ",131," ",{"$f":"SMALL(P$8:P$157,Q138)","v":{"$error":"#NUM!"}},{"$f":"\"P\"&(IF(S138=S137,VLOOKUP(S138,INDIRECT(T137),2,FALSE),VLOOKUP(S138,P$8:Q$157,2,FALSE))+8)&\":R157\"","v":{"$error":"#NUM!"}},{"$error":"#NUM!"},{"$error":"#NUM!"},{"$f":"SUM(U$8:U138)","v":{"$error":"#NUM!"}},{"$f":"SUM(V$8:V138)","v":{"$error":"#NUM!"}},0.42203856749311291,0.37106227106227102,0]
[null,null,132,"x",null," ",null," ",null,null,null,null,null,null,{"$error":"#N/A"}," ",132," ",{"$error":"#NUM!"},{"$error":"#NUM!"},{"$f":"IF(S139=S138,VLOOKUP(S139,INDIRECT(T138),2,FALSE),VLOOKUP(S139,P$8:R$157,2,FALSE))","v":{"$error":"#NUM!"}},{"$f":"IF(S139=S138,VLOOKUP(S139,INDIRECT(T138),3,FALSE),VLOOKUP(S139,P$8:R$157,3,FALSE))","v":{"$error":"#NUM!"}},{"$f":"SUM(U$8:U139)","v":{"$error":"#NUM!"}},{"$f":"SUM(V$8:V139)","v":{"$error":"#NUM!"}},0.42203856749311291,0.37106227106227102,0]
[null,null,133,"x",null," ",null," ",null,null,null,null,null,null,{"$error":"#N/A"}," ",133," ",{"$error":"#NUM!"},{"$error":"#NUM!"},{"$error":"#NUM!"},{"$error":"#NUM!"},{"$f":"SUM(U$8:U140)","v":{"$error":"#NUM!"}},{"$f":"SUM(V$8:V140)","v":{"$error":"#NUM!"}},0.42203856749311291,0.37106227106227102,0]
[null,null,134,"x",null," ",null," ",null,null,null,null,null,null,{"$error":"#N/A"}," ",134," ",{"$error":"#NUM!"},{"$error":"#NUM!"},{"$error":"#NUM!"},{"$error":"#NUM!"},{"$f":"SUM(U$8:U141)","v":{"$error":"#NUM!"}},{"$f":"SUM(V$8:V141)","v":{"$error":"#NUM!"}},0.42203856749311291,0.37106227106227102,0]
[null,null,135,"x",null," ",null," ",null,null,null,null,null,null,{"$error":"#N/A"}," ",135," ",{"$error":"#NUM!"},{"$error":"#NUM!"},{"$error":"#NUM!"},{"$error":"#NUM!"},{"$f":"SUM(U$8:U142)","v":{"$error":"#NUM!"}},{"$f":"SUM(V$8:V142)","v":{"$error":"#NUM!"}},0.42203856749311291,0.37106227106227102,0]
[null,null,136,"x",null," ",null," ",null,null,null,null,null,null,{"$error":"#N/A"}," ",136," ",{"$error":"#NUM!"},{"$error":"#NUM!"},{"$error":"#NUM!"},{"$error":"#NUM!"},{"$f":"SUM(U$8:U143)","v":{"$error":"#NUM!"}},{"$f":"SUM(V$8:V143)","v":{"$error":"#NUM!"}},0.42203856749311291,0.37106227106227102,0]
[null,null,137,"x",null," ",null," ",null,null,null,null,null,null,{"$error":"#N/A"}," ",137," ",{"$error":"#NUM!"},{"$error":"#NUM!"},{"$error":"#NUM!"},{"$error":"#NUM!"},{"$f":"SUM(U$8:U144)","v":{"$error":"#NUM!"}},{"$f":"SUM(V$8:V144)","v":{"$error":"#NUM!"}},0.42203856749311291,0.37106227106227102,0]
[null,null,138,"x",null," ",null," ",null,null,null,null,null,null,{"$error":"#N/A"}," ",138," ",{"$error":"#NUM!"},{"$error":"#NUM!"},{"$error":"#NUM!"},{"$error":"#NUM!"},{"$f":"SUM(U$8:U145)","v":{"$error":"#NUM!"}},{"$f":"SUM(V$8:V145)","v":{"$error":"#NUM!"}},0.42203856749311291,0.37106227106227102,0]
[null,null,139,"x",null," ",null," ",null,null,null,null,null,null,{"$error":"#N/A"}," ",139," ",{"$error":"#NUM!"},{"$error":"#NUM!"},{"$error":"#NUM!"},{"$error":"#NUM!"},{"$f":"SUM(U$8:U146)","v":{"$error":"#NUM!"}},{"$f":"SUM(V$8:V146)","v":{"$error":"#NUM!"}},0.42203856749311291,0.37106227106227102,0]
[null,null,140,"x",null," ",null," ",null,null,null,null,null,null,{"$error":"#N/A"}," ",140," ",{"$error":"#NUM!"},{"$error":"#NUM!"},{"$error":"#NUM!"},{"$error":"#NUM!"},{"$f":"SUM(U$8:U147)","v":{"$error":"#NUM!"}},{"$f":"SUM(V$8:V147)","v":{"$error":"#NUM!"}},0.42203856749311291,0.37106227106227102,0]
[null,null,141,"x",null," ",null," ",null,null,null,null,null,null,{"$error":"#N/A"}," ",141," ",{"$error":"#NUM!"},{"$error":"#NUM!"},{"$error":"#NUM!"},{"$error":"#NUM!"},{"$f":"SUM(U$8:U148)","v":{"$error":"#NUM!"}},{"$f":"SUM(V$8:V148)","v":{"$error":"#NUM!"}},0.42203856749311291,0.37106227106227102,0]
[null,null,142,"x",null," ",null," ",null,null,null,null,null,null,{"$error":"#N/A"}," ",142," ",{"$error":"#NUM!"},{"$error":"#NUM!"},{"$error":"#NUM!"},{"$error":"#NUM!"},{"$f":"SUM(U$8:U149)","v":{"$error":"#NUM!"}},{"$f":"SUM(V$8:V149)","v":{"$error":"#NUM!"}},0.42203856749311291,0.37106227106227102,0]
[null,null,143,"x",null," ",null," ",null,null,null,null,null,null,{"$error":"#N/A"}," ",143," ",{"$error":"#NUM!"},{"$error":"#NUM!"},{"$error":"#NUM!"},{"$error":"#NUM!"},{"$f":"SUM(U$8:U150)","v":{"$error":"#NUM!"}},{"$f":"SUM(V$8:V150)","v":{"$error":"#NUM!"}},0.42203856749311291,0.37106227106227102,0]
[null,null,144,"x",null," ",null," ",null,null,null,null,null,null,{"$error":"#N/A"}," ",144," ",{"$error":"#NUM!"},{"$error":"#NUM!"},{"$error":"#NUM!"},{"$error":"#NUM!"},{"$f":"SUM(U$8:U151)","v":{"$error":"#NUM!"}},{"$f":"SUM(V$8:V151)","v":{"$error":"#NUM!"}},0.42203856749311291,0.37106227106227102,0]
[null,null,145,"x",null," ",null," ",null,null,null,null,null,null,{"$error":"#N/A"}," ",145," ",{"$error":"#NUM!"},{"$error":"#NUM!"},{"$error":"#NUM!"},{"$error":"#NUM!"},{"$f":"SUM(U$8:U152)","v":{"$error":"#NUM!"}},{"$f":"SUM(V$8:V152)","v":{"$error":"#NUM!"}},0.42203856749311291,0.37106227106227102,0]
[null,null,146,"x",null," ",null," ",null,null,null,null,null,null,{"$error":"#N/A"}," ",146," ",{"$error":"#NUM!"},{"$error":"#NUM!"},{"$error":"#NUM!"},{"$error":"#NUM!"},{"$f":"SUM(U$8:U153)","v":{"$error":"#NUM!"}},{"$f":"SUM(V$8:V153)","v":{"$error":"#NUM!"}},0.42203856749311291,0.37106227106227102,0]
[null,null,147,"x",null," ",null," ",null,null,null,null,null,null,{"$error":"#N/A"}," ",147," ",{"$error":"#NUM!"},{"$error":"#NUM!"},{"$error":"#NUM!"},{"$error":"#NUM!"},{"$f":"SUM(U$8:U154)","v":{"$error":"#NUM!"}},{"$f":"SUM(V$8:V154)","v":{"$error":"#NUM!"}},0.42203856749311291,0.37106227106227102,0]
[null,null,148,"x",null," ",null," ",null,null,null,null,null,null,{"$error":"#N/A"}," ",148," ",{"$error":"#NUM!"},{"$error":"#NUM!"},{"$error":"#NUM!"},{"$error":"#NUM!"},{"$f":"SUM(U$8:U155)","v":{"$error":"#NUM!"}},{"$f":"SUM(V$8:V155)","v":{"$error":"#NUM!"}},0.42203856749311291,0.37106227106227102,0]
[null,null,149,"x",null," ",null," ",null,null,null,null,null,null,{"$error":"#N/A"}," ",149," ",{"$error":"#NUM!"},{"$error":"#NUM!"},{"$error":"#NUM!"},{"$error":"#NUM!"},{"$f":"SUM(U$8:U156)","v":{"$error":"#NUM!"}},{"$f":"SUM(V$8:V156)","v":{"$error":"#NUM!"}},0.42203856749311291,0.37106227106227102,0]
[null,null,150,"x",null," ",null," ",null,null,null,null,null,null,{"$error":"#N/A"}," ",150," ",{"$error":"#NUM!"},{"$error":"#NUM!"},{"$error":"#NUM!"},{"$error":"#NUM!"},{"$f":"SUM(U$8:U157)","v":{"$error":"#NUM!"}},{"$f":"SUM(V$8:V157)","v":{"$error":"#NUM!"}},0.42203856749311291,0.37106227106227102,0]
[null,null," "," "]
[null,null," "," ",null,null,null," "]
[null,null," "," "]

{"sheet":"PrintLayout","index":1,"n_rows":41,"n_cols":31,"rows_kept":41,"cut":false,"hidden":false,"merged":[[2,3,4,26],[6,3,6,13],[6,14,6,16],[8,3,8,13],[8,14,8,16]]}
[]
[]
[null,null,null,{"$f":"MainSheet!C3","v":"WSU Othello"}]
[]
[]
[]
[null,null,null,"Average catch (in)",null,null,null,null,null,null,null,null,null,null,{"$f":"MainSheet!$K$9","v":0.42203856749311291}]
[]
[null,null,null,"Distribution Uniformity",null,null,null,null,null,null,null,null,null,null,{"$f":"MainSheet!$K$14","v":0.87921412790864484}]
[]
[null,null,null,"S","Can ID","mL","in",null,"S","Can ID","mL","in",null,"S","Can ID","mL","in",null,"S","Can ID","mL","in",null,"S","Can ID","mL","in",null,null,null," "]
[null,null,null,{"$f":"MainSheet!$B8","v":0},1,{"$f":"MainSheet!$D8","v":"x"},{"$f":"MainSheet!$F8","v":" "},null,{"$f":"MainSheet!$B38","v":0},{"$f":"E41+1","v":31},{"$f":"MainSheet!$D38","v":"x"},{"$f":"MainSheet!$F38","v":" "},null,{"$f":"MainSheet!$B68","v":0},{"$f":"J41+1","v":61},{"$f":"MainSheet!$D68","v":"x"},{"$f":"MainSheet!$F68","v":" "}," ",{"$f":"MainSheet!$B98","v":0},{"$f":"O41+1","v":91},{"$f":"MainSheet!$D98","v":"x"},{"$f":"MainSheet!$F98","v":" "}," ",{"$f":"MainSheet!$B128","v":0},{"$f":"T41+1","v":121},{"$f":"MainSheet!$D128","v":"x"},{"$f":"MainSheet!$F128","v":" "}]
[null,null,null,{"$f":"MainSheet!$B9","v":0},{"$f":"E12+1","v":2},{"$f":"MainSheet!$D9","v":"x"},{"$f":"MainSheet!$F9","v":" "},null,{"$f":"MainSheet!$B39","v":0},{"$f":"J12+1","v":32},{"$f":"MainSheet!$D39","v":"x"},{"$f":"MainSheet!$F39","v":" "},null,{"$f":"MainSheet!$B69","v":0},{"$f":"O12+1","v":62},{"$f":"MainSheet!$D69","v":"x"},{"$f":"MainSheet!$F69","v":" "},null,{"$f":"MainSheet!$B99","v":0},{"$f":"+T12+1","v":92},{"$f":"MainSheet!$D99","v":"x"},{"$f":"MainSheet!$F99","v":" "},null,{"$f":"MainSheet!$B129","v":0},{"$f":"Y12+1","v":122},{"$f":"MainSheet!$D129","v":"x"},{"$f":"MainSheet!$F129","v":" "}]
[null,null,null,{"$f":"MainSheet!$B10","v":0},{"$f":"E13+1","v":3},{"$f":"MainSheet!$D10","v":"x"},{"$f":"MainSheet!$F10","v":" "},null,{"$f":"MainSheet!$B40","v":0},{"$f":"J13+1","v":33},{"$f":"MainSheet!$D40","v":"x"},{"$f":"MainSheet!$F40","v":" "},null,{"$f":"MainSheet!$B70","v":0},{"$f":"O13+1","v":63},{"$f":"MainSheet!$D70","v":"x"},{"$f":"MainSheet!$F70","v":" "},null,{"$f":"MainSheet!$B100","v":0},{"$f":"+T13+1","v":93},{"$f":"MainSheet!$D100","v":"x"},{"$f":"MainSheet!$F100","v":" "},null,{"$f":"MainSheet!$B130","v":0},{"$f":"Y13+1","v":123},{"$f":"MainSheet!$D130","v":"x"},{"$f":"MainSheet!$F130","v":" "}]
[null,null,null,{"$f":"MainSheet!$B11","v":0},4,{"$f":"MainSheet!$D11","v":"x"},{"$f":"MainSheet!$F11","v":" "},null,{"$f":"MainSheet!$B41","v":0},34,{"$f":"MainSheet!$D41","v":"x"},{"$f":"MainSheet!$F41","v":" "},null,{"$f":"MainSheet!$B71","v":0},64,{"$f":"MainSheet!$D71","v":"x"},{"$f":"MainSheet!$F71","v":" "},null,{"$f":"MainSheet!$B101","v":0},94,{"$f":"MainSheet!$D101","v":"x"},{"$f":"MainSheet!$F101","v":" "},null,{"$f":"MainSheet!$B131","v":0},124,{"$f":"MainSheet!$D131","v":"x"},{"$f":"MainSheet!$F131","v":" "}]
[null,null,null,{"$f":"MainSheet!$B12","v":0},5,{"$f":"MainSheet!$D12","v":"x"},{"$f":"MainSheet!$F12","v":" "},null,{"$f":"MainSheet!$B42","v":0},35,{"$f":"MainSheet!$D42","v":"x"},{"$f":"MainSheet!$F42","v":" "},null,{"$f":"MainSheet!$B72","v":0},65,{"$f":"MainSheet!$D72","v":"x"},{"$f":"MainSheet!$F72","v":" "},null,{"$f":"MainSheet!$B102","v":0},95,{"$f":"MainSheet!$D102","v":"x"},{"$f":"MainSheet!$F102","v":" "},null,{"$f":"MainSheet!$B132","v":0},125,{"$f":"MainSheet!$D132","v":"x"},{"$f":"MainSheet!$F132","v":" "}]
[null,null,null,{"$f":"MainSheet!$B13","v":0},6,{"$f":"MainSheet!$D13","v":150},{"$f":"MainSheet!$F13","v":0.35714285714285715},null,{"$f":"MainSheet!$B43","v":0},36,{"$f":"MainSheet!$D43","v":"x"},{"$f":"MainSheet!$F43","v":" "},null,{"$f":"MainSheet!$B73","v":0},66,{"$f":"MainSheet!$D73","v":"x"},{"$f":"MainSheet!$F73","v":" "},null,{"$f":"MainSheet!$B103","v":0},96,{"$f":"MainSheet!$D103","v":"x"},{"$f":"MainSheet!$F103","v":" "},null,{"$f":"MainSheet!$B133","v":0},126,{"$f":"MainSheet!$D133","v":"x"},{"$f":"MainSheet!$F133","v":" "}]
[null,null,null,{"$f":"MainSheet!$B14","v":0},7,{"$f":"MainSheet!$D14","v":200},{"$f":"MainSheet!$F14","v":0.47619047619047616},null,{"$f":"MainSheet!$B44","v":0},37,{"$f":"MainSheet!$D44","v":"x"},{"$f":"MainSheet!$F44","v":" "},null,{"$f":"MainSheet!$B74","v":0},67,{"$f":"MainSheet!$D74","v":"x"},{"$f":"MainSheet!$F74","v":" "},null,{"$f":"MainSheet!$B104","v":0},97,{"$f":"MainSheet!$D104","v":"x"},{"$f":"MainSheet!$F104","v":" "},null,{"$f":"MainSheet!$B134","v":0},127,{"$f":"MainSheet!$D134","v":"x"},{"$f":"MainSheet!$F134","v":" "}]
[null,null,null,{"$f":"MainSheet!$B15","v":0},8,{"$f":"MainSheet!$D15","v":154},{"$f":"MainSheet!$F15","v":0.36666666666666664},null,{"$f":"MainSheet!$B45","v":0},38,{"$f":"MainSheet!$D45","v":"x"},{"$f":"MainSheet!$F45","v":" "},null,{"$f":"MainSheet!$B75","v":0},68,{"$f":"MainSheet!$D75","v":"x"},{"$f":"MainSheet!$F75","v":" "},null,{"$f":"MainSheet!$B105","v":0},98,{"$f":"MainSheet!$D105","v":"x"},{"$f":"MainSheet!$F105","v":" "},null,{"$f":"MainSheet!$B135","v":0},128,{"$f":"MainSheet!$D135","v":"x"},{"$f":"MainSheet!$F135","v":" "}]
[null,null,null,{"$f":"MainSheet!$B16","v":0},9,{"$f":"MainSheet!$D16","v":200},{"$f":"MainSheet!$F16","v":0.47619047619047616},null,{"$f":"MainSheet!$B46","v":0},39,{"$f":"MainSheet!$D46","v":"x"},{"$f":"MainSheet!$F46","v":" "},null,{"$f":"MainSheet!$B76","v":0},69,{"$f":"MainSheet!$D76","v":"x"},{"$f":"MainSheet!$F76","v":" "},null,{"$f":"MainSheet!$B106","v":0},99,{"$f":"MainSheet!$D106","v":"x"},{"$f":"MainSheet!$F106","v":" "},null,{"$f":"MainSheet!$B136","v":0},129,{"$f":"MainSheet!$D136","v":"x"},{"$f":"MainSheet!$F136","v":" "}]
[null,null,null,{"$f":"MainSheet!$B17","v":0},10,{"$f":"MainSheet!$D17","v":185},{"$f":"MainSheet!$F17","v":0.44047619047619047},null,{"$f":"MainSheet!$B47","v":0},40,{"$f":"MainSheet!$D47","v":"x"},{"$f":"MainSheet!$F47","v":" "},null,{"$f":"MainSheet!$B77","v":0},70,{"$f":"MainSheet!$D77","v":"x"},{"$f":"MainSheet!$F77","v":" "},null,{"$f":"MainSheet!$B107","v":0},100,{"$f":"MainSheet!$D107","v":"x"},{"$f":"MainSheet!$F107","v":" "},null,{"$f":"MainSheet!$B137","v":0},130,{"$f":"MainSheet!$D137","v":"x"},{"$f":"MainSheet!$F137","v":" "}]
[null,null,null,{"$f":"MainSheet!$B18","v":0},11,{"$f":"MainSheet!$D18","v":179},{"$f":"MainSheet!$F18","v":0.42619047619047618},null,{"$f":"MainSheet!$B48","v":0},41,{"$f":"MainSheet!$D48","v":"x"},{"$f":"MainSheet!$F48","v":" "},null,{"$f":"MainSheet!$B78","v":0},71,{"$f":"MainSheet!$D78","v":"x"},{"$f":"MainSheet!$F78","v":" "},null,{"$f":"MainSheet!$B108","v":0},101,{"$f":"MainSheet!$D108","v":"x"},{"$f":"MainSheet!$F108","v":" "},null,{"$f":"MainSheet!$B138","v":0},131,{"$f":"MainSheet!$D138","v":"x"},{"$f":"MainSheet!$F138","v":" "}]
[null,null,null,{"$f":"MainSheet!$B19","v":0},12,{"$f":"MainSheet!$D19","v":160},{"$f":"MainSheet!$F19","v":0.38095238095238093},null,{"$f":"MainSheet!$B49","v":0},42,{"$f":"MainSheet!$D49","v":"x"},{"$f":"MainSheet!$F49","v":" "},null,{"$f":"MainSheet!$B79","v":0},72,{"$f":"MainSheet!$D79","v":"x"},{"$f":"MainSheet!$F79","v":" "},null,{"$f":"MainSheet!$B109","v":0},102,{"$f":"MainSheet!$D109","v":"x"},{"$f":"MainSheet!$F109","v":" "},null,{"$f":"MainSheet!$B139","v":0},132,{"$f":"MainSheet!$D139","v":"x"},{"$f":"MainSheet!$F139","v":" "}]
[null,null,null,{"$f":"MainSheet!$B20","v":0},13,{"$f":"MainSheet!$D20","v":192},{"$f":"MainSheet!$F20","v":0.45714285714285713},null,{"$f":"MainSheet!$B50","v":0},43,{"$f":"MainSheet!$D50","v":"x"},{"$f":"MainSheet!$F50","v":" "},null,{"$f":"MainSheet!$B80","v":0},73,{"$f":"MainSheet!$D80","v":"x"},{"$f":"MainSheet!$F80","v":" "},null,{"$f":"MainSheet!$B110","v":0},103,{"$f":"MainSheet!$D110","v":"x"},{"$f":"MainSheet!$F110","v":" "},null,{"$f":"MainSheet!$B140","v":0},133,{"$f":"MainSheet!$D140","v":"x"},{"$f":"MainSheet!$F140","v":" "}]
[null,null,null,{"$f":"MainSheet!$B21","v":0},14,{"$f":"MainSheet!$D21","v":189},{"$f":"MainSheet!$F21","v":0.45},null,{"$f":"MainSheet!$B51","v":0},44,{"$f":"MainSheet!$D51","v":"x"},{"$f":"MainSheet!$F51","v":" "},null,{"$f":"MainSheet!$B81","v":0},74,{"$f":"MainSheet!$D81","v":"x"},{"$f":"MainSheet!$F81","v":" "},null,{"$f":"MainSheet!$B111","v":0},104,{"$f":"MainSheet!$D111","v":"x"},{"$f":"MainSheet!$F111","v":" "},null,{"$f":"MainSheet!$B141","v":0},134,{"$f":"MainSheet!$D141","v":"x"},{"$f":"MainSheet!$F141","v":" "}]
[null,null,null,{"$f":"MainSheet!$B22","v":0},15,{"$f":"MainSheet!$D22","v":173},{"$f":"MainSheet!$F22","v":0.41190476190476188},null,{"$f":"MainSheet!$B52","v":0},45,{"$f":"MainSheet!$D52","v":"x"},{"$f":"MainSheet!$F52","v":" "},null,{"$f":"MainSheet!$B82","v":0},75,{"$f":"MainSheet!$D82","v":"x"},{"$f":"MainSheet!$F82","v":" "},null,{"$f":"MainSheet!$B112","v":0},105,{"$f":"MainSheet!$D112","v":"x"},{"$f":"MainSheet!$F112","v":" "},null,{"$f":"MainSheet!$B142","v":0},135,{"$f":"MainSheet!$D142","v":"x"},{"$f":"MainSheet!$F142","v":" "}]
[null,null,null,{"$f":"MainSheet!$B23","v":0},16,{"$f":"MainSheet!$D23","v":165},{"$f":"MainSheet!$F23","v":0.39285714285714285},null,{"$f":"MainSheet!$B53","v":0},46,{"$f":"MainSheet!$D53","v":"x"},{"$f":"MainSheet!$F53","v":" "},null,{"$f":"MainSheet!$B83","v":0},76,{"$f":"MainSheet!$D83","v":"x"},{"$f":"MainSheet!$F83","v":" "},null,{"$f":"MainSheet!$B113","v":0},106,{"$f":"MainSheet!$D113","v":"x"},{"$f":"MainSheet!$F113","v":" "},null,{"$f":"MainSheet!$B143","v":0},136,{"$f":"MainSheet!$D143","v":"x"},{"$f":"MainSheet!$F143","v":" "}]
[null,null,null,{"$f":"MainSheet!$B24","v":0},17,{"$f":"MainSheet!$D24","v":"x"},{"$f":"MainSheet!$F24","v":" "},null,{"$f":"MainSheet!$B54","v":0},47,{"$f":"MainSheet!$D54","v":"x"},{"$f":"MainSheet!$F54","v":" "},null,{"$f":"MainSheet!$B84","v":0},77,{"$f":"MainSheet!$D84","v":"x"},{"$f":"MainSheet!$F84","v":" "},null,{"$f":"MainSheet!$B114","v":0},107,{"$f":"MainSheet!$D114","v":"x"},{"$f":"MainSheet!$F114","v":" "},null,{"$f":"MainSheet!$B144","v":0},137,{"$f":"MainSheet!$D144","v":"x"},{"$f":"MainSheet!$F144","v":" "}]
[null,null,null,{"$f":"MainSheet!$B25","v":0},18,{"$f":"MainSheet!$D25","v":"x"},{"$f":"MainSheet!$F25","v":" "},null,{"$f":"MainSheet!$B55","v":0},48,{"$f":"MainSheet!$D55","v":"x"},{"$f":"MainSheet!$F55","v":" "},null,{"$f":"MainSheet!$B85","v":0},78,{"$f":"MainSheet!$D85","v":"x"},{"$f":"MainSheet!$F85","v":" "},null,{"$f":"MainSheet!$B115","v":0},108,{"$f":"MainSheet!$D115","v":"x"},{"$f":"MainSheet!$F115","v":" "},null,{"$f":"MainSheet!$B145","v":0},138,{"$f":"MainSheet!$D145","v":"x"},{"$f":"MainSheet!$F145","v":" "}]
[null,null,null,{"$f":"MainSheet!$B26","v":0},19,{"$f":"MainSheet!$D26","v":"x"},{"$f":"MainSheet!$F26","v":" "},null,{"$f":"MainSheet!$B56","v":0},49,{"$f":"MainSheet!$D56","v":"x"},{"$f":"MainSheet!$F56","v":" "},null,{"$f":"MainSheet!$B86","v":0},79,{"$f":"MainSheet!$D86","v":"x"},{"$f":"MainSheet!$F86","v":" "},null,{"$f":"MainSheet!$B116","v":0},109,{"$f":"MainSheet!$D116","v":"x"},{"$f":"MainSheet!$F116","v":" "},null,{"$f":"MainSheet!$B146","v":0},139,{"$f":"MainSheet!$D146","v":"x"},{"$f":"MainSheet!$F146","v":" "}]
[null,null,null,{"$f":"MainSheet!$B27","v":0},20,{"$f":"MainSheet!$D27","v":"x"},{"$f":"MainSheet!$F27","v":" "},null,{"$f":"MainSheet!$B57","v":0},50,{"$f":"MainSheet!$D57","v":"x"},{"$f":"MainSheet!$F57","v":" "},null,{"$f":"MainSheet!$B87","v":0},80,{"$f":"MainSheet!$D87","v":"x"},{"$f":"MainSheet!$F87","v":" "},null,{"$f":"MainSheet!$B117","v":0},110,{"$f":"MainSheet!$D117","v":"x"},{"$f":"MainSheet!$F117","v":" "},null,{"$f":"MainSheet!$B147","v":0},140,{"$f":"MainSheet!$D147","v":"x"},{"$f":"MainSheet!$F147","v":" "}]
[null,null,null,{"$f":"MainSheet!$B28","v":0},21,{"$f":"MainSheet!$D28","v":"x"},{"$f":"MainSheet!$F28","v":" "},null,{"$f":"MainSheet!$B58","v":0},51,{"$f":"MainSheet!$D58","v":"x"},{"$f":"MainSheet!$F58","v":" "},null,{"$f":"MainSheet!$B88","v":0},81,{"$f":"MainSheet!$D88","v":"x"},{"$f":"MainSheet!$F88","v":" "},null,{"$f":"MainSheet!$B118","v":0},111,{"$f":"MainSheet!$D118","v":"x"},{"$f":"MainSheet!$F118","v":" "},null,{"$f":"MainSheet!$B148","v":0},141,{"$f":"MainSheet!$D148","v":"x"},{"$f":"MainSheet!$F148","v":" "}]
[null,null,null,{"$f":"MainSheet!$B29","v":0},22,{"$f":"MainSheet!$D29","v":"x"},{"$f":"MainSheet!$F29","v":" "},null,{"$f":"MainSheet!$B59","v":0},52,{"$f":"MainSheet!$D59","v":"x"},{"$f":"MainSheet!$F59","v":" "},null,{"$f":"MainSheet!$B89","v":0},82,{"$f":"MainSheet!$D89","v":"x"},{"$f":"MainSheet!$F89","v":" "},null,{"$f":"MainSheet!$B119","v":0},112,{"$f":"MainSheet!$D119","v":"x"},{"$f":"MainSheet!$F119","v":" "},null,{"$f":"MainSheet!$B149","v":0},142,{"$f":"MainSheet!$D149","v":"x"},{"$f":"MainSheet!$F149","v":" "}]
[null,null,null,{"$f":"MainSheet!$B30","v":0},23,{"$f":"MainSheet!$D30","v":"x"},{"$f":"MainSheet!$F30","v":" "},null,{"$f":"MainSheet!$B60","v":0},53,{"$f":"MainSheet!$D60","v":"x"},{"$f":"MainSheet!$F60","v":" "},null,{"$f":"MainSheet!$B90","v":0},83,{"$f":"MainSheet!$D90","v":"x"},{"$f":"MainSheet!$F90","v":" "},null,{"$f":"MainSheet!$B120","v":0},113,{"$f":"MainSheet!$D120","v":"x"},{"$f":"MainSheet!$F120","v":" "},null,{"$f":"MainSheet!$B150","v":0},143,{"$f":"MainSheet!$D150","v":"x"},{"$f":"MainSheet!$F150","v":" "}]
[null,null,null,{"$f":"MainSheet!$B31","v":0},24,{"$f":"MainSheet!$D31","v":"x"},{"$f":"MainSheet!$F31","v":" "},null,{"$f":"MainSheet!$B61","v":0},54,{"$f":"MainSheet!$D61","v":"x"},{"$f":"MainSheet!$F61","v":" "},null,{"$f":"MainSheet!$B91","v":0},84,{"$f":"MainSheet!$D91","v":"x"},{"$f":"MainSheet!$F91","v":" "},null,{"$f":"MainSheet!$B121","v":0},114,{"$f":"MainSheet!$D121","v":"x"},{"$f":"MainSheet!$F121","v":" "},null,{"$f":"MainSheet!$B151","v":0},144,{"$f":"MainSheet!$D151","v":"x"},{"$f":"MainSheet!$F151","v":" "}]
[null,null,null,{"$f":"MainSheet!$B32","v":0},25,{"$f":"MainSheet!$D32","v":"x"},{"$f":"MainSheet!$F32","v":" "},null,{"$f":"MainSheet!$B62","v":0},55,{"$f":"MainSheet!$D62","v":"x"},{"$f":"MainSheet!$F62","v":" "},null,{"$f":"MainSheet!$B92","v":0},85,{"$f":"MainSheet!$D92","v":"x"},{"$f":"MainSheet!$F92","v":" "},null,{"$f":"MainSheet!$B122","v":0},115,{"$f":"MainSheet!$D122","v":"x"},{"$f":"MainSheet!$F122","v":" "},null,{"$f":"MainSheet!$B152","v":0},145,{"$f":"MainSheet!$D152","v":"x"},{"$f":"MainSheet!$F152","v":" "}]
[null,null,null,{"$f":"MainSheet!$B33","v":0},26,{"$f":"MainSheet!$D33","v":"x"},{"$f":"MainSheet!$F33","v":" "},null,{"$f":"MainSheet!$B63","v":0},56,{"$f":"MainSheet!$D63","v":"x"},{"$f":"MainSheet!$F63","v":" "},null,{"$f":"MainSheet!$B93","v":0},86,{"$f":"MainSheet!$D93","v":"x"},{"$f":"MainSheet!$F93","v":" "},null,{"$f":"MainSheet!$B123","v":0},116,{"$f":"MainSheet!$D123","v":"x"},{"$f":"MainSheet!$F123","v":" "},null,{"$f":"MainSheet!$B153","v":0},146,{"$f":"MainSheet!$D153","v":"x"},{"$f":"MainSheet!$F153","v":" "}]
[null,null,null,{"$f":"MainSheet!$B34","v":0},27,{"$f":"MainSheet!$D34","v":"x"},{"$f":"MainSheet!$F34","v":" "},null,{"$f":"MainSheet!$B64","v":0},57,{"$f":"MainSheet!$D64","v":"x"},{"$f":"MainSheet!$F64","v":" "},null,{"$f":"MainSheet!$B94","v":0},87,{"$f":"MainSheet!$D94","v":"x"},{"$f":"MainSheet!$F94","v":" "},null,{"$f":"MainSheet!$B124","v":0},117,{"$f":"MainSheet!$D124","v":"x"},{"$f":"MainSheet!$F124","v":" "},null,{"$f":"MainSheet!$B154","v":0},147,{"$f":"MainSheet!$D154","v":"x"},{"$f":"MainSheet!$F154","v":" "}]
[null,null,null,{"$f":"MainSheet!$B35","v":0},28,{"$f":"MainSheet!$D35","v":"x"},{"$f":"MainSheet!$F35","v":" "},null,{"$f":"MainSheet!$B65","v":0},58,{"$f":"MainSheet!$D65","v":"x"},{"$f":"MainSheet!$F65","v":" "},null,{"$f":"MainSheet!$B95","v":0},88,{"$f":"MainSheet!$D95","v":"x"},{"$f":"MainSheet!$F95","v":" "},null,{"$f":"MainSheet!$B125","v":0},118,{"$f":"MainSheet!$D125","v":"x"},{"$f":"MainSheet!$F125","v":" "},null,{"$f":"MainSheet!$B155","v":0},148,{"$f":"MainSheet!$D155","v":"x"},{"$f":"MainSheet!$F155","v":" "}]
[null,null,null,{"$f":"MainSheet!$B36","v":0},29,{"$f":"MainSheet!$D36","v":"x"},{"$f":"MainSheet!$F36","v":" "},null,{"$f":"MainSheet!$B66","v":0},59,{"$f":"MainSheet!$D66","v":"x"},{"$f":"MainSheet!$F66","v":" "},null,{"$f":"MainSheet!$B96","v":0},89,{"$f":"MainSheet!$D96","v":"x"},{"$f":"MainSheet!$F96","v":" "},null,{"$f":"MainSheet!$B126","v":0},119,{"$f":"MainSheet!$D126","v":"x"},{"$f":"MainSheet!$F126","v":" "},null,{"$f":"MainSheet!$B156","v":0},149,{"$f":"MainSheet!$D156","v":"x"},{"$f":"MainSheet!$F156","v":" "}]
[null,null,null,{"$f":"MainSheet!$B37","v":0},30,{"$f":"MainSheet!$D37","v":"x"},{"$f":"MainSheet!$F37","v":" "},null,{"$f":"MainSheet!$B67","v":0},60,{"$f":"MainSheet!$D67","v":"x"},{"$f":"MainSheet!$F67","v":" "},null,{"$f":"MainSheet!$B97","v":0},90,{"$f":"MainSheet!$D97","v":"x"},{"$f":"MainSheet!$F97","v":" "},null,{"$f":"MainSheet!$B127","v":0},120,{"$f":"MainSheet!$D127","v":"x"},{"$f":"MainSheet!$F127","v":" "},null,{"$f":"MainSheet!$B157","v":0},150,{"$f":"MainSheet!$D157","v":"x"},{"$f":"MainSheet!$F157","v":" "}]

{"sheet":"Efficiency&OperationCharts","index":2,"n_rows":103,"n_cols":17,"rows_kept":103,"cut":false,"hidden":false,"merged":[[8,1,8,2],[9,1,9,2],[10,1,10,2],[2,1,2,2],[2,14,2,16],[3,1,3,2],[4,1,4,2],[5,1,5,2],[7,1,7,2]]}
[]
[null,"End Tower Travel Speed",null,null,null,"Pivot Settings and Efficiency"]
[null,"Marker Set Time (hh:mm)",null,"09:38:00",null,"Pivot Wetted Radius (ft)",1250,null,null,null,"% Setting","Full Rotation Time (hr)","Actual Applied Depth (in)",null,"Calculated Values"]
[null,"Marker End Time (hh:mm)",null,"10:23:00",null,"Inflow Rate (gpm)",880,null,null,null,0.01,{"$f":"$D$9/K4","v":1732.4959486708415},{"$f":"$D$8/K4","v":21.101928374655646},null,"Trav Speed at Tested Setting",{"$f":"D5/(60*HOUR(D4-D3)+MINUTE(D4-D3))","v":3.7777777777777777},"ft/min"]
[null,"Tower Travel Distance (ft)",null,170,null,"% Setting During Eval.",50,null,null,null,{"$f":"K4+0.01","v":0.02},866.24797433542074,10.550964187327823,null,"Wghtd Avg ya as Tested",{"$f":"MainSheet!K9","v":0.42203856749311291},"in"]
[null,"Distance to Last Tower (ft)",null,1100,null,"Fraction of Full Circle %",50,null,null,null,{"$f":"K5+0.01","v":0.03},577.49864955694716,7.033976124885216,null,"Full Rot Time at Tested Setting",{"$f":"D10/P4/60","v":34.649918973416831},"hrs"]
[null,null,null,null,null,null,null,null,null,null,0.04,433.12398716771037,5.2754820936639115,null,"App Rate",{"$f":"PI()*G3^2*P5/12/P6/60*7.4805195","v":621.18230875038273},"gpm"]
[null,"Minimum Depth at 100% (in)",null,{"$f":"P5*(G5/100)","v":0.21101928374655646},null,"Application Efficiency",{"$f":"P7/G4","v":0.70588898721634397},null,null,null,0.05,346.49918973416828,4.220385674931129]
[null,"Minimum Rotation Time at 100% (hrs)",null,{"$f":"P6*(G5/100)","v":17.324959486708416},null,null,null,null,null,null,6.0000000000000005E-2,288.74932477847358,3.5169880624426075]
[null,"Circumference (ft)",null,{"$f":"2*PI()*G3","v":7853.981633974483},null,null,null,null,null,null,7.0000000000000007E-2,247.49942123869164,3.0145611963793777]
[null,"Area (acres)",null,{"$f":"PI()*G3^2/43560*G6/100","v":56.344565211593796},null,null,null,null,null,null,0.08,216.56199358385518,2.6377410468319558]
[null,null,null,null,null,null,null,null,null,null,0.09,192.49954985231574,2.3446587082950718]
[null,null,null,null,null,null,null,null,null,null,9.9999999999999992E-2,173.24959486708417,2.110192837465565]
[null,null,null,null,null,null,null,null,null,null,0.10999999999999999,157.49963169734926,1.9183571249686953]
[null,null,null,null,null,null,null,null,null,null,0.11999999999999998,144.37466238923682,1.758494031221304]
[null,null,null,null,null,null,null,null,null,null,0.12999999999999998,133.26891912852631,1.6232252595888961]
[null,null,null,null,null,null,null,null,null,null,0.13999999999999999,123.74971061934583,1.5072805981896891]
[null,null,null,null,null,null,null,null,null,null,0.15,115.49972991138944,1.406795224977043]
[null,null,null,null,null,null,null,null,null,null,0.16,108.28099679192759,1.3188705234159779]
[null,null,null,null,null,null,null,null,null,null,0.17,101.91152639240244,1.2412899043915084]
[null,null,null,null,null,null,null,null,null,null,0.18000000000000002,96.249774926157855,1.1723293541475357]
[null,null,null,null,null,null,null,null,null,null,0.19000000000000003,91.183997298465329,1.1106278091924022]
[null,null,null,null,null,null,null,null,null,null,0.20000000000000004,86.624797433542057,1.055096418732782]
[null,null,null,null,null,null,null,null,null,null,0.21000000000000005,82.499807079563865,1.004853732126459]
[null,null,null,null,null,null,null,null,null,null,0.22000000000000006,78.749815848674601,0.9591785624843473]
[null,null,null,null,null,null,null,null,null,null,0.23000000000000007,75.325910811775699,0.9174751467241582]
[null,null,null,null,null,null,null,null,null,null,0.24000000000000007,72.18733119461838,0.87924701561065166]
[null,null,null,null,null,null,null,null,null,null,0.25000000000000006,69.299837946833648,0.84407713498622561]
[null,null,null,null,null,null,null,null,null,null,0.26000000000000006,66.634459564263125,0.8116126297944477]
[null,null,null,null,null,null,null,null,null,null,0.27000000000000007,64.16651661743856,0.78155290276502365]
[null,null,null,null,null,null,null,null,null,null,0.28000000000000008,61.874855309672895,0.75364029909484431]
[null,null,null,null,null,null,null,null,null,null,0.29000000000000009,59.741239609339345,0.72765270257433234]
[null,null,null,null,null,null,null,null,null,null,0.3000000000000001,57.749864955694697,0.70339761248852128]
[null,null,"% Setting","Application Depth (in)","Time for Full Rotation",null,null,null,null,null,0.31000000000000011,55.886966086156157,0.68070736692437539]
[null,null,0.05,{"$f":"$D$8/C35","v":4.220385674931129},{"$f":"$D$9/C35","v":346.49918973416828},null,null,null,null,null,0.32000000000000012,54.140498395963782,0.65943526170798872]
[null,null,0.1,2.1101928374655645,173.24959486708414,null,null,null,null,null,0.33000000000000013,52.499877232449727,0.63945237498956475]
[null,null,0.15,1.406795224977043,115.49972991138944,null,null,null,null,null,0.34000000000000014,50.955763196201204,0.620644952195754]
[null,null,0.2,1.0550964187327823,86.624797433542071,null,null,null,null,null,0.35000000000000014,49.499884247738308,0.60291223927587534]
[null,null,0.25,0.84407713498622583,69.299837946833662,null,null,null,null,null,0.36000000000000015,48.124887463078913,0.58616467707376774]
[null,null,0.3,0.70339761248852151,57.749864955694719,null,null,null,null,null,0.37000000000000016,46.824214828941642,0.57032238850420636]
[null,null,0.35,0.60291223927587567,49.499884247738336,null,null,null,null,null,0.38000000000000017,45.59199864923265,0.555313904596201]
[null,null,0.4,0.52754820936639113,43.312398716771035,null,null,null,null,null,0.39000000000000018,44.422973042842074,0.54107508652963165]
[null,null,0.45,0.46893174165901436,38.499909970463143,null,null,null,null,null,0.40000000000000019,43.312398716771021,0.52754820936639091]
[null,null,0.5,0.42203856749311291,34.649918973416831,null,null,null,null,null,0.4100000000000002,42.255998748069288,0.51468117986964967]
[null,null,0.55000000000000004,0.38367142499373896,31.499926339469845,null,null,null,null,null,0.42000000000000021,41.249903539781918,0.50242686606322939]
[null,null,0.6,0.35169880624426075,28.874932477847359,null,null,null,null,null,0.43000000000000022,40.290603457461408,0.49074252034082871]
[null,null,0.7,0.30145611963793784,24.749942123869168,null,null,null,null,null,0.44000000000000022,39.374907924337286,0.47958928124217354]
[null,null,0.8,0.26377410468319556,21.656199358385518,null,null,null,null,null,0.45000000000000023,38.499909970463129,0.46893174165901413]
[null,null,0.9,0.23446587082950718,19.249954985231572,null,null,null,null,null,0.46000000000000024,37.662955405887843,0.45873757336207899]
[null,null,1,0.21101928374655646,17.324959486708416,null,null,null,null,null,0.47000000000000025,36.861615929166824,0.4489771994607582]
[null,null,null,null,null,null,null,null,null,null,0.48000000000000026,36.093665597309183,0.43962350780532572]
[null,null,null,null,null,null,null,null,null,null,0.49000000000000027,35.357060176955933,0.43065159948276804]
[null,null,null,null,null,null,null,null,null,null,0.50000000000000022,34.649918973416817,0.42203856749311275]
[null,null,null,null,null,null,null,null,null,null,0.51000000000000023,33.970508797467467,0.413763301463836]
[null,null,null,null,null,null,null,null,null,null,0.52000000000000024,33.317229782131555,0.4058063148972238]
[null,null,null,null,null,null,null,null,null,null,{"$f":"K55+0.01","v":0.53000000000000025},32.6886028051102,0.39814959197463462]
[null,null,null,null,null,null,null,null,null,null,0.54000000000000026,32.083258308719273,0.39077645138251177]
[null,null,null,null,null,null,null,null,null,null,0.55000000000000027,31.49992633946983,0.38367142499373885]
[null,null,null,null,null,null,null,null,null,null,0.56000000000000028,30.937427654836441,0.37682014954742205]
[null,null,null,null,null,null,null,null,null,null,0.57000000000000028,30.3946657661551,0.37020926973080059]
[null,null,null,null,null,null,null,null,null,null,0.58000000000000029,29.870619804669666,0.36382635128716612]
[null,null,null,null,null,null,null,null,null,null,0.5900000000000003,29.364338113065095,0.35765980296026501]
[null,null,null,null,null,null,null,null,null,null,0.60000000000000031,28.874932477847345,0.35169880624426059]
[null,null,null,null,null,null,null,null,null,null,0.61000000000000032,28.401572929030173,0.34593325204353498]
[null,null,null,null,null,null,null,null,null,null,0.62000000000000033,27.943483043078075,0.34035368346218764]
[null,null,null,null,null,null,null,null,null,null,0.63000000000000034,27.499935693187947,0.33495124404215293]
[null,null,null,null,null,null,null,null,null,null,0.64000000000000035,27.070249197981884,0.3297176308539943]
[null,null,null,null,null,null,null,null,null,null,0.65000000000000036,{"$f":"$D$9/K68","v":26.65378382570524},{"$f":"$D$8/K68","v":0.32464505191777898}]
[null,null,null,null,null,null,null,null,null,null,0.66000000000000036,26.249938616224856,0.31972618749478232]
[null,null,null,null,null,null,null,null,null,null,{"$f":"K69+0.01","v":0.67000000000000037},25.858148487624486,0.31495415484560646]
[null,null,null,null,null,null,null,null,null,null,0.68000000000000038,25.477881598100598,0.31032247609787694]
[null,null,null,null,null,null,null,null,null,null,0.69000000000000039,25.108636937258559,0.30582504890805268]
[null,null,null,null,null,null,null,null,null,null,0.7000000000000004,24.74994212386915,0.30145611963793761]
[null,null,null,null,null,null,null,null,null,null,0.71000000000000041,24.401351389730149,0.2972102587979667]
[null,null,null,null,null,null,null,null,null,null,0.72000000000000042,24.062443731539453,0.29308233853688381]
[null,null,null,null,null,null,null,null,null,null,0.73000000000000043,23.732821214669048,0.28906751198158404]
[null,null,null,null,null,null,null,null,null,null,0.74000000000000044,23.412107414470817,0.28516119425210318]
[null,null,null,null,null,null,null,null,null,null,0.75000000000000044,23.099945982277873,0.28135904499540842]
[null,null,null,null,null,null,null,null,null,null,0.76000000000000045,22.795999324616322,0.27765695229810045]
[null,null,null,null,null,null,null,null,null,null,0.77000000000000046,22.499947385335592,0.27405101785267055]
[null,null,null,null,null,null,null,null,null,null,0.78000000000000047,22.211486521421033,0.27053754326481583]
[null,null,null,null,null,null,null,null,null,null,0.79000000000000048,21.930328464187856,0.2671130174007042]
[null,null,null,null,null,null,null,null,null,null,0.80000000000000049,21.656199358385507,0.2637741046831954]
[null,null,null,null,null,null,null,null,null,null,0.8100000000000005,21.388838872479511,0.26051763425500779]
[null,null,null,null,null,null,null,null,null,null,0.82000000000000051,21.127999374034641,0.25734058993482478]
[null,null,null,null,null,null,null,null,null,null,0.83000000000000052,20.873445164708922,0.25424010089946547]
[null,null,null,null,null,null,null,null,null,null,0.84000000000000052,20.624951769890959,0.2512134330316147]
[null,null,null,null,null,null,null,null,null,null,0.85000000000000053,20.382305278480477,0.24825798087830156]
[null,null,null,null,null,null,null,null,null,null,0.86000000000000054,20.145301728730704,0.24537126017041433]
[null,null,null,null,null,null,null,null,null,null,0.87000000000000055,19.913746536446443,0.24255090085811071]
[null,null,null,null,null,null,null,null,null,null,0.88000000000000056,19.687453962168643,0.23979464062108674]
[null,null,null,null,null,null,null,null,null,null,0.89000000000000057,19.466246614279108,0.23710031881635543]
[null,null,null,null,null,null,null,null,null,null,0.90000000000000058,19.249954985231561,0.23446587082950701]
[null,null,null,null,null,null,null,null,null,null,0.91000000000000059,19.038417018360885,0.23188932279841354]
[null,null,null,null,null,null,null,null,null,null,0.9200000000000006,18.831477702943918,0.22936878668103947]
[null,null,null,null,null,null,null,null,null,null,0.9300000000000006,18.628988695385381,0.22690245564145842]
[null,null,null,null,null,null,null,null,null,null,0.94000000000000061,18.430807964583408,0.22448859973037907]
[null,null,null,null,null,null,null,null,null,null,0.95000000000000062,18.236799459693056,0.22212556183848034]
[null,null,null,null,null,null,null,null,null,null,0.96000000000000063,18.046832798654588,0.21981175390266283]
[null,null,null,null,null,null,null,null,null,null,0.97000000000000064,{"$f":"$D$9/K100","v":17.860782975988045},0.21754565334696527]
[null,null,null,null,null,null,null,null,null,null,0.98000000000000065,{"$f":"$D$9/K101","v":17.678530088477963},0.21532579974138399]
[null,null,null,null,null,null,null,null,null,null,0.99000000000000066,{"$f":"$D$9/K102","v":17.499959077483236},0.2131507916631882]
[null,null,null,null,null,null,null,null,null,null,1.0000000000000007,{"$f":"$D$9/K103","v":17.324959486708405},0.21101928374655632]